BEGIN:VCALENDAR
VERSION:2.0
PRODID:-//ChamberMaster//Event Calendar 2.0//EN
METHOD:PUBLISH
X-PUBLISHED-TTL:P3D
REFRESH-INTERVAL:P3D
CALSCALE:GREGORIAN
BEGIN:VEVENT
DTSTART:20200123T230000Z
DTEND:20200124T010000Z
X-MICROSOFT-CDO-ALLDAYEVENT:FALSE
SUMMARY:Cybersecurity for Small Businesses
DESCRIPTION:The Better Business Bureau Cybersecurity program covers the most common ways scam artists\, hackers\, and identity thieves target businesses. We discuss the major "red flags" to be aware of and the ways in which business owners can best protect their personal data\, and that of their employees and clients. \n\n\n\nTo register\, contact SCORE at workshops@scoreboston.org
X-ALT-DESC;FMTTYPE=text/html:The Better Business Bureau Cybersecurity program covers the most common ways scam artists\, hackers\, and identity thieves target businesses. We discuss the major &quot\;red flags&quot\; to be aware of and the ways in which business owners can best protect their personal data\, and that of their employees and clients.&nbsp\;<br />\n<br />\nTo register\, contact SCORE at workshops@scoreboston.org
LOCATION:Cambridge City Hall Annex\, 2nd Floor 344 Broadway
UID:e.2584.4685
SEQUENCE:3
DTSTAMP:20260424T081036Z
URL:https://business.cambridgechamber.org/events/details/cybersecurity-for-small-businesses-4685
END:VEVENT

END:VCALENDAR
