BEGIN:VCALENDAR
VERSION:2.0
PRODID:-//ChamberMaster//Event Calendar 2.0//EN
METHOD:PUBLISH
X-PUBLISHED-TTL:P3D
REFRESH-INTERVAL:P3D
CALSCALE:GREGORIAN
BEGIN:VEVENT
DTSTART:20190928T190000Z
DTEND:20190928T220000Z
X-MICROSOFT-CDO-ALLDAYEVENT:FALSE
SUMMARY:Craft Beer Clash
DESCRIPTION:Celebrate #NationalDrinkBeerDay with us on Saturday\, September 28 from 3-6pm for the first ever CRAFT BEER CLASH! Enjoy an afternoon outdoors with unlimited beer samples\, bar bites and lawn games. The best part? You\, yes YOU\, will crown the champion.\n\nWhether you're into dark or light\, each brewery will surely put up a fight. No beer event would be complete without a little friendly competition\, right?\n\nAfter you indulge in beer samples\, cast your vote for your favorite brewery. Check back soon for a list of competitors!\n\nTicket includes:\n\n\n	\n	Unlimited beer and cider tastings from an assortment of your favorite local breweries and cider houses\n	\n	\n	Bar bites (full menu will be available for purchase)\n	\n	\n	Access to lawn games \n	\n\n\nWho will be crowned the Craft Beer Clash Champion? Say that 5x fast\, then join us Saturday\, September 28th to find out!\n\nPlease note: This event is 21+ with a valid ID. Sorry\, all sales are final. In the case of inclement weather\, the event will be moved inside.
X-ALT-DESC;FMTTYPE=text/html:<p>Celebrate #NationalDrinkBeerDay with us on Saturday\, September 28 from 3-6pm for the first ever CRAFT BEER CLASH! Enjoy an afternoon outdoors with unlimited beer samples\, bar bites and lawn games. The best part? You\, yes YOU\, will crown the champion.</p>\n\n<p>Whether you&#39\;re into dark or light\, each brewery will surely put up a fight. No beer event would be complete without a little friendly competition\, right?</p>\n\n<p>After you indulge in beer samples\, cast your vote for your favorite brewery.&nbsp\;<strong>Check back soon for a list of competitors!</strong></p>\n\n<p>Ticket includes:</p>\n\n<ul>\n	<li>\n	<p>Unlimited beer and cider tastings from an assortment of your favorite local breweries and cider houses</p>\n	</li>\n	<li>\n	<p>Bar bites (full menu will be available for purchase)</p>\n	</li>\n	<li>\n	<p>Access to lawn games&nbsp\;</p>\n	</li>\n</ul>\n\n<p><strong>Who will be crowned the Craft Beer Clash Champion? Say that 5x fast\, then join us Saturday\, September 28th to find out!</strong></p>\n\n<p><em>Please note: This event is 21+ with a valid ID. Sorry\, all sales are final. In the case of inclement weather\, the event will be moved inside.</em></p>\n
LOCATION:Glass House 450 Kendall Street Cambridge\, MA 02142
UID:e.2584.4608
SEQUENCE:3
DTSTAMP:20260424T125844Z
URL:https://business.cambridgechamber.org/events/details/craft-beer-clash-4608
END:VEVENT

END:VCALENDAR
