BEGIN:VCALENDAR
VERSION:2.0
PRODID:-//ChamberMaster//Event Calendar 2.0//EN
METHOD:PUBLISH
X-PUBLISHED-TTL:P3D
REFRESH-INTERVAL:P3D
CALSCALE:GREGORIAN
BEGIN:VEVENT
DTSTART:20200212T223000Z
DTEND:20200212T233000Z
X-MICROSOFT-CDO-ALLDAYEVENT:FALSE
SUMMARY:CRA Regular Board Meeting
DESCRIPTION:CRA Regular Board Meeting\n\nWednesday\, February 12\n\n5:30pm at the Police Station\, 125 Sixth Street\, Cambridge\, MA\n\nhttps://www.cambridgeredevelopment.org/2020
X-ALT-DESC;FMTTYPE=text/html:<strong>CRA Regular Board Meeting</strong><br />\nWednesday\, February 12<br />\n5:30pm at the Police Station\, 125 Sixth Street\, Cambridge\, MA<br />\n<a href="https://www.cambridgeredevelopment.org/2020">https://www.cambridgeredevelopment.org/2020</a>
LOCATION:
UID:e.2584.4679
SEQUENCE:3
DTSTAMP:20260424T050556Z
URL:https://business.cambridgechamber.org/events/details/cra-regular-board-meeting-4679
END:VEVENT

END:VCALENDAR
