BEGIN:VCALENDAR
VERSION:2.0
PRODID:-//ChamberMaster//Event Calendar 2.0//EN
METHOD:PUBLISH
X-PUBLISHED-TTL:P3D
REFRESH-INTERVAL:P3D
CALSCALE:GREGORIAN
BEGIN:VEVENT
DTSTART:20200122T223000Z
DTEND:20200122T233000Z
X-MICROSOFT-CDO-ALLDAYEVENT:FALSE
SUMMARY:CRA Regular Board Meeting
DESCRIPTION:CRA Regular Board Meeting\n\nWednesday\, January 22 \n\n5:30pm at the Police Station\, 125 Sixth Street\, Cambridge\, MA\n\nhttps://www.cambridgeredevelopment.org/2020
X-ALT-DESC;FMTTYPE=text/html:<strong>CRA Regular Board Meeting</strong><br />\nWednesday\, January 22<span style="font-family:cambria math\,serif\;">&sdot\;</span><br />\n5:30pm at the Police Station\, 125 Sixth Street\, Cambridge\, MA<br />\n<a href="https://www.cambridgeredevelopment.org/2020">https://www.cambridgeredevelopment.org/2020</a>
LOCATION:
UID:e.2584.4678
SEQUENCE:3
DTSTAMP:20260424T064642Z
URL:https://business.cambridgechamber.org/events/details/cra-regular-board-meeting-4678
END:VEVENT

END:VCALENDAR
