BEGIN:VCALENDAR
VERSION:2.0
PRODID:-//ChamberMaster//Event Calendar 2.0//EN
METHOD:PUBLISH
X-PUBLISHED-TTL:P3D
REFRESH-INTERVAL:P3D
CALSCALE:GREGORIAN
BEGIN:VEVENT
DTSTART:20191016T213000Z
DTEND:20191016T223000Z
X-MICROSOFT-CDO-ALLDAYEVENT:FALSE
SUMMARY:CRA Regular Board Meeting
DESCRIPTION:Agenda can be found at www.CambridgeRedevelopment.org/next-meeting
X-ALT-DESC;FMTTYPE=text/html:Agenda can be found at&nbsp\;<a href="http://www.cambridgeredevelopment.org/next-meeting">www.CambridgeRedevelopment.org/next-meeting</a><br />\n<br />\n&nbsp\;
LOCATION:Police Station 125 Sixth Street\, Cambridge MA
UID:e.2584.4652
SEQUENCE:3
DTSTAMP:20260424T112308Z
URL:https://business.cambridgechamber.org/events/details/cra-regular-board-meeting-4652
END:VEVENT

END:VCALENDAR
