BEGIN:VCALENDAR
VERSION:2.0
PRODID:-//ChamberMaster//Event Calendar 2.0//EN
METHOD:PUBLISH
X-PUBLISHED-TTL:P3D
REFRESH-INTERVAL:P3D
CALSCALE:GREGORIAN
BEGIN:VEVENT
DTSTART;VALUE=DATE:20210529
DTEND;VALUE=DATE:20210530
TRANSP:TRANSPARENT
X-MICROSOFT-CDO-ALLDAYEVENT:TRUE
SUMMARY:Community Supported Art Pops-Up at CambridgeSide
DESCRIPTION:Community Supported Art Pops-Up\, now located on Level 1 at CambridgeSide (CambridgeSide.com). The exhibit showcases the work of a diverse group of artists all with ties to the City of Cambridge including: Judith Motzkin\, Janet Malenfant\, Boriana Kantcheva\, Nancy Hart and others. The exhibit features a variety of mediums including paintings\, sculptures\, printmaking\, drawing\, glass art\, graphic design and more. The artwork is also available for purchase through Cambridge Arts. For more information\, visit Community Supported Art Collection.
X-ALT-DESC;FMTTYPE=text/html:Community Supported Art Pops-Up\, now located on Level 1 at CambridgeSide (CambridgeSide.com). The exhibit showcases&nbsp\;the work&nbsp\;of a diverse group of artists all with ties to the City of Cambridge including: Judith Motzkin\, Janet Malenfant\, Boriana Kantcheva\, Nancy Hart and others.&nbsp\;The exhibit features a variety of mediums including paintings\, sculptures\, printmaking\, drawing\, glass art\, graphic design and more. The artwork is also available for purchase through Cambridge Arts. For more information\, visit&nbsp\;<a href="https://csartcambridge.com/about-creative-marketplace/" target="_blank">Community Supported Art Collection</a>.
LOCATION:CambridgeSide 100 CambridgeSide Place Cambridge\, MA 02141
UID:e.2584.6059
SEQUENCE:3
DTSTAMP:20260423T062847Z
URL:https://business.cambridgechamber.org/events/details/community-supported-art-pops-up-at-cambridgeside-05-29-2021-6059
END:VEVENT

END:VCALENDAR
