BEGIN:VCALENDAR
VERSION:2.0
PRODID:-//ChamberMaster//Event Calendar 2.0//EN
METHOD:PUBLISH
X-PUBLISHED-TTL:P3D
REFRESH-INTERVAL:P3D
CALSCALE:GREGORIAN
BEGIN:VEVENT
DTSTART:20190925T220000Z
DTEND:20190925T230000Z
X-MICROSOFT-CDO-ALLDAYEVENT:FALSE
SUMMARY:Community Benefits Meeting
DESCRIPTION:Help us design a new Cambridge program for families that provides matched savings accounts!\n\nEnjoy dessert and coffee with your neighbors and hear about a new program Cambridge Family and Children's Service is designing to address family finances and health. The program is for Cambridge families with children and includes a chance to increase your family's savings through a matched savings account. We need your help to design a program that you would want to participate in! Stop & Shop Gift Cards ($25 - $100) will be raffled off as a gift for helping us out.\n\n\n\nChildcare will be provided!
X-ALT-DESC;FMTTYPE=text/html:<p style="margin: 0px\; padding: 0px\; color: rgb(111\, 114\, 135)\; font-family: &quot\;Neue Plak&quot\;\, -apple-system\, BlinkMacSystemFont\, Roboto\, &quot\;Helvetica Neue&quot\;\, Helvetica\, Tahoma\, Arial\, sans-serif\; font-size: 14.9333px\; letter-spacing: 0.5px\; background-color: rgb(255\, 255\, 255)\;"><span style="font-size:20px\;"><span style="font-weight: 700\; padding-top: 0px\;">Help us design a new Cambridge program for families that provides matched savings accounts!</span></span></p>\n\n<p style="margin: 0px\; padding: 10px 0px 0px\; color: rgb(111\, 114\, 135)\; font-family: &quot\;Neue Plak&quot\;\, -apple-system\, BlinkMacSystemFont\, Roboto\, &quot\;Helvetica Neue&quot\;\, Helvetica\, Tahoma\, Arial\, sans-serif\; font-size: 14.9333px\; letter-spacing: 0.5px\; background-color: rgb(255\, 255\, 255)\;"><span style="font-size:20px\;">Enjoy dessert and coffee with your neighbors and hear about a new program Cambridge Family and Children&rsquo\;s Service is designing to address family finances and health. The program is for Cambridge families with children and includes a chance to increase your family&rsquo\;s savings through a matched savings account.&nbsp\;<span style="font-weight: 700\; padding-top: 0px\;">We need your help to design a program that you would want to participate in!</span>&nbsp\;Stop&nbsp\;&amp\; Shop Gift Cards ($25 - $100) will be&nbsp\;raffled&nbsp\;off as a gift for helping us out.<br />\n<br />\nChildcare will be provided!</span></p>\n
LOCATION:Cambridge Family & Children's Service 60 Gore Street
UID:e.2584.4619
SEQUENCE:3
DTSTAMP:20260424T130055Z
URL:https://business.cambridgechamber.org/events/details/community-benefits-meeting-4619
END:VEVENT

END:VCALENDAR
