BEGIN:VCALENDAR
VERSION:2.0
PRODID:-//ChamberMaster//Event Calendar 2.0//EN
METHOD:PUBLISH
X-PUBLISHED-TTL:P3D
REFRESH-INTERVAL:P3D
CALSCALE:GREGORIAN
BEGIN:VEVENT
DTSTART:20200109T230000Z
DTEND:20200110T010000Z
X-MICROSOFT-CDO-ALLDAYEVENT:FALSE
SUMMARY:Comedy for a Cause
DESCRIPTION:YWCA Cambridge is kicking off the new year with Comedy for a Cause featuring Bethany Van Delft\, Best of Boston 2019 Comedian!\n\n\n\nOpening Acts: Comedian Nonye Brown-West & Michelle Sui \n\n\n\nSmall Bites are included in ticket price. Cash bar on-site!\n\n\n\nLearn more about each comedian here: \n\nhttps://www.bethanyvandelft.com/ \n\nhttps://www.nonyecomedy.com/ https://www.michellesuicomedy.com/
X-ALT-DESC;FMTTYPE=text/html:<span style="color:rgb(29\, 33\, 41)\; font-family:helvetica\,arial\,sans-serif\; font-size:14px">YWCA Cambridge is kicking off the new year with Comedy for a Cause featuring Bethany Van Delft\, Best of Boston 2019 Comedian!</span><br />\n<br />\n<span style="color:rgb(29\, 33\, 41)\; font-family:helvetica\,arial\,sans-serif\; font-size:14px">Opening Acts: </span><a href="https://www.facebook.com/NonyeBrownWest/" style="color: rgb(56\, 88\, 152)\; cursor: pointer\; text-decoration-line: none\; font-family: Helvetica\, Arial\, sans-serif\; font-size: 14px\; white-space: pre-wrap\;" target="_blank">Comedian Nonye Brown-West</a><span style="color:rgb(29\, 33\, 41)\; font-family:helvetica\,arial\,sans-serif\; font-size:14px"> &amp\; Michelle Sui </span><br />\n<br />\n<span style="color:rgb(29\, 33\, 41)\; font-family:helvetica\,arial\,sans-serif\; font-size:14px">Small Bites are included in ticket price. Cash bar on-site!</span><br />\n<br />\n<span style="color:rgb(29\, 33\, 41)\; font-family:helvetica\,arial\,sans-serif\; font-size:14px">Learn more about each comedian here: </span><br />\n<a href="https://l.facebook.com/l.php?u=https%3A%2F%2Fwww.bethanyvandelft.com%2F%3Ffbclid%3DIwAR1VFtEkiqkqKDYAGhAV6vNyuBby9R82Cdm4KHuUIRK0DQFeC3VCLf8bHlM&amp\;h=AT1ZIvkCTatSzBXxFa_qAKJduQGNyB6l-nynzIXIwO4mQWq5YOw0YVjKIu3vypb_eJMIDFRR9NvBA0zMfNrVoZ6zIhCJLbHq6_VjuJwNMuuWA-HviEHT9yvWCXGOd0YnBUVyuu2_ci5yKvVsTA" rel="nofollow noopener" style="color: rgb(56\, 88\, 152)\; cursor: pointer\; text-decoration-line: none\; font-family: Helvetica\, Arial\, sans-serif\; font-size: 14px\; white-space: pre-wrap\;" target="_blank">https://www.bethanyvandelft.com/</a><span style="color:rgb(29\, 33\, 41)\; font-family:helvetica\,arial\,sans-serif\; font-size:14px"> </span><br />\n<a href="https://l.facebook.com/l.php?u=https%3A%2F%2Fwww.nonyecomedy.com%2F%3Ffbclid%3DIwAR1SVzEP08KG2Z10SQZeXLwtu70zdvZ1Si1pX-8YOAirlqAATWeVsEQmLq0&amp\;h=AT0R5X_pBltL-sUfmYJ20NyeP9szBmmr35XMtARg6p6R0s_g49uZClaa7DLqzQtixcAsBJrRKciuRuMHezWHX2F_pbiZdvAhj4zUNecJbWd3jVN_tcCIom0cTHifMbuaGXlkWf3OZXEokMkC7g" rel="nofollow noopener" style="color: rgb(56\, 88\, 152)\; cursor: pointer\; text-decoration-line: none\; font-family: Helvetica\, Arial\, sans-serif\; font-size: 14px\; white-space: pre-wrap\;" target="_blank">https://www.nonyecomedy.com/</a><span style="color:rgb(29\, 33\, 41)\; font-family:helvetica\,arial\,sans-serif\; font-size:14px"> </span><a href="https://l.facebook.com/l.php?u=https%3A%2F%2Fwww.michellesuicomedy.com%2F%3Ffbclid%3DIwAR1Q0lajTzvokwTp5yoBF6CfDxX3pv8k5TJX1sJPkre2V6CzIohqrawLElQ&amp\;h=AT1K64DY9uwIc9fSSYeVUWVo9CFzP82bbXbI2X2RKaR8WdJGZRerF4Ip-34r_5ohMjss_H0YeGD_ExQBe1jI0SyIREmS3irMd-4Cx8tomEsulCf7t5Aw2h3lvBDlw07J1jPPv7Yb0PVaYJ-2dQ" rel="nofollow noopener" style="color: rgb(56\, 88\, 152)\; cursor: pointer\; text-decoration-line: none\; font-family: Helvetica\, Arial\, sans-serif\; font-size: 14px\; white-space: pre-wrap\;" target="_blank">https://www.michellesuicomedy.com/</a>
LOCATION:Middle East Restaurant Sonia Room 10 Brookline St Cambridge\, MA\, 02139
UID:e.2584.4680
SEQUENCE:3
DTSTAMP:20260424T080824Z
URL:https://business.cambridgechamber.org/events/details/comedy-for-a-cause-4680
END:VEVENT

END:VCALENDAR
