BEGIN:VCALENDAR
VERSION:2.0
PRODID:-//ChamberMaster//Event Calendar 2.0//EN
METHOD:PUBLISH
X-PUBLISHED-TTL:P3D
REFRESH-INTERVAL:P3D
CALSCALE:GREGORIAN
BEGIN:VEVENT
DTSTART:20190509T133000Z
DTEND:20190509T153000Z
X-MICROSOFT-CDO-ALLDAYEVENT:FALSE
SUMMARY:Coaching Your Team for Enhanced Performance & Satisfaction Workshop
DESCRIPTION:Could your team improve their problem solving techniques? Are you frustrated and overwhelmed with all the hands-on work you are doing?  Are you looking for ways to enhance everyone's performance and satisfaction?  If so\, this workshop is for you. A major challenge faced by many organizational leaders is their own tendency to be hands-on problem solvers. This skill may have contributed to their promotion to management\, but it can easily become a limitation.  Effective leaders know that their primary role is not to solve problems but to unleash the problem-solving capacity of those around them. Navigational Conversations provides organizational leaders with the skills to unlock the talents and problem-solving abilities of others. Join FocalPoint Coach & Trainer Marc Cote for this Navigational Conversations workshop. Admission: Free to all\; priority will be given to Cambridge business owners.
X-ALT-DESC;FMTTYPE=text/html:<span style="color:rgb(0\, 0\, 0)\; font-family:myriad-pro\,arial\,helvetica\,sans-serif\; font-size:13.98px">Could your team improve their problem solving techniques? Are you frustrated and overwhelmed with all the hands-on work you are doing?&nbsp\; Are you looking for ways to enhance everyone&rsquo\;s performance and satisfaction?&nbsp\; If so\, this workshop is for you. A major challenge faced by many organizational leaders is their own tendency to be hands-on problem solvers. This skill may have contributed to their promotion to management\, but it can easily become a limitation.&nbsp\; Effective leaders know that their primary role is not to solve problems but to unleash the problem-solving capacity of those around them. Navigational Conversations provides organizational leaders with the skills to unlock the talents and problem-solving abilities of others.&nbsp\;Join FocalPoint Coach &amp\; Trainer Marc Cote for this Navigational Conversations workshop. Admission: Free to all\; priority will be given to Cambridge business owners.</span>
LOCATION:Cambridge City Hall Annex\, 344 Broadway\, 2nd floor Meeting Room
UID:e.2584.4483
SEQUENCE:3
DTSTAMP:20260424T214127Z
URL:https://business.cambridgechamber.org/events/details/coaching-your-team-for-enhanced-performance-satisfaction-workshop-4483
END:VEVENT

END:VCALENDAR
