BEGIN:VCALENDAR
VERSION:2.0
PRODID:-//ChamberMaster//Event Calendar 2.0//EN
METHOD:PUBLISH
X-PUBLISHED-TTL:P3D
REFRESH-INTERVAL:P3D
CALSCALE:GREGORIAN
BEGIN:VEVENT
DTSTART:20190724T210000Z
DTEND:20190725T010000Z
X-MICROSOFT-CDO-ALLDAYEVENT:FALSE
SUMMARY:Christmas in July!
DESCRIPTION:Mamaleh's is offering a Summer reprise of the popular Jewish-Asian Christmas dinners.\n\nA la carte menu. \n\nReservations suggested via mamalehs.com or resy.com\n\n \n\nJuly 24th & 25th 5pm-9pm\n\nCHRISTMAS IN JULY \n\nReuben Egg Rolls with Hoisin Russian Dressing\n\nChili-Marinated Pickles\n\nBrisket Bao\n\nVeggie Pot Stickers with Manischevitz Ponzu\n\nLip Numbing Mapo Pastrami with Duck Fat Matzah Balls\n\nWhitefish Rangoon with Sweet & Sour Sauce\n\nMiso Eggplant\n\nSesame Chicken\n\nMongolian Long Beans with Pickled Mustard Seeds and Szechuan Peppercorns\n\nChilled Dan Dan Noodles\, Local Tofu\, Carrot\, Cucumber\, Cilantro\n\nChilled Health Salad with Ginger Poppy Dressing
X-ALT-DESC;FMTTYPE=text/html:<div>Mamaleh&#39\;s is offering a Summer reprise of the popular Jewish-Asian Christmas dinners.</div>\n\n<div>A la carte menu.&nbsp\;</div>\n\n<div>Reservations suggested via&nbsp\;<a href="http://mamalehs.com/">mamalehs.com</a>&nbsp\;or resy.com</div>\n\n<div>&nbsp\;</div>\n\n<div><strong><u>July 24th &amp\; 25th 5pm-9pm</u></strong></div>\n\n<div><strong><u>CHRISTMAS IN JULY&nbsp\;</u></strong></div>\n\n<div><em>Reuben Egg Rolls with Hoisin Russian Dressing</em></div>\n\n<div><em>Chili-Marinated Pickles</em></div>\n\n<div><em>Brisket Bao</em></div>\n\n<div><em>Veggie Pot Stickers with Manischevitz Ponzu</em></div>\n\n<div><em>Lip Numbing Mapo Pastrami with Duck Fat Matzah Balls</em></div>\n\n<div><em>Whitefish Rangoon with Sweet &amp\; Sour Sauce</em></div>\n\n<div><em>Miso Eggplant</em></div>\n\n<div><em>Sesame Chicken</em></div>\n\n<div><em>Mongolian Long Beans with Pickled Mustard Seeds and Szechuan Peppercorns</em></div>\n\n<div><em>Chilled Dan Dan Noodles\, Local Tofu\, Carrot\, Cucumber\, Cilantro</em></div>\n\n<div><em>Chilled Health Salad with Ginger Poppy Dressing</em></div>\n
LOCATION:Mamaleh's Delicatessen One Kendall Square Cambridge\, MA 02139
UID:e.2584.4579
SEQUENCE:3
DTSTAMP:20260424T164232Z
URL:https://business.cambridgechamber.org/events/details/christmas-in-july-4579
END:VEVENT

END:VCALENDAR
