BEGIN:VCALENDAR
VERSION:2.0
PRODID:-//ChamberMaster//Event Calendar 2.0//EN
METHOD:PUBLISH
X-PUBLISHED-TTL:P3D
REFRESH-INTERVAL:P3D
CALSCALE:GREGORIAN
BEGIN:VEVENT
DTSTART:20190427T020000Z
DTEND:20190427T033000Z
X-MICROSOFT-CDO-ALLDAYEVENT:FALSE
SUMMARY:Chris Potter Circuits Trio
DESCRIPTION:A world-class soloist\, accomplished composer\, and formidable bandleader\, Grammy Award nominated saxophonist Chris Potter has emerged as a leading light of his generation. Potter's music showcases limitless creativity and a vibrant sense of swing\, prompting critics\, musicians\, and fans alike to cite him as the one of the finest saxophonists today. The New Yorker calls Potter\, "A tenorist who can remind you of Joe Henderson at his craftiest\, he employs his considerable technique in the service of music rather than spectacle." With his 2019 Edition Records release\, Circuits\, Potter makes a return to groove\, echoing music from his Underground era. Joined by keyboardist James Francies and drummer Eric Harland\, Potter's new music thrives on the band's chemistry\, blending a vibrant soundscape of electronics\, melodies with unforgettable hooks\, and surprising turns of phrase\, all played with relentless energy.
X-ALT-DESC;FMTTYPE=text/html:A world-class soloist\, accomplished composer\, and formidable bandleader\, Grammy Award nominated saxophonist Chris Potter has emerged as a leading light of his generation. Potter&#39\;s music showcases limitless creativity and a vibrant sense of swing\, prompting critics\, musicians\, and fans alike to cite him as the one of the finest saxophonists today. The New Yorker calls Potter\, &quot\;A tenorist who can remind you of Joe Henderson at his craftiest\, he employs his considerable technique in the service of music rather than spectacle.&quot\; With his 2019 Edition Records release\, Circuits\, Potter makes a return to groove\, echoing music from his Underground era. Joined by keyboardist James Francies and drummer Eric Harland\, Potter&#39\;s new music thrives on the band&#39\;s chemistry\, blending a vibrant soundscape of electronics\, melodies with unforgettable hooks\, and surprising turns of phrase\, all played with relentless energy.
LOCATION:The Regattabar at The Charles Hotel
UID:e.2584.3760
SEQUENCE:3
DTSTAMP:20260424T214322Z
URL:https://business.cambridgechamber.org/events/details/chris-potter-circuits-trio-04-26-2019-3760
END:VEVENT

END:VCALENDAR
