BEGIN:VCALENDAR
VERSION:2.0
PRODID:-//ChamberMaster//Event Calendar 2.0//EN
METHOD:PUBLISH
X-PUBLISHED-TTL:P3D
REFRESH-INTERVAL:P3D
CALSCALE:GREGORIAN
BEGIN:VEVENT
DTSTART:20190914T163000Z
DTEND:20190914T193000Z
X-MICROSOFT-CDO-ALLDAYEVENT:FALSE
SUMMARY:Central Square\, Cambridge Food and Mural Arts Tour
DESCRIPTION:Central Square\, Cambridge is home to a vibrant public art scene from Graffiti Alley to various colorful murals around Massachusetts Avenue. Uncover the artists and meaning behind these murals and enjoy delicious eats from local restaurants while you're at it. This fun walk will take guests along Massachusetts Avenue right by MIT to uncover the history of the area and the importance of self expression.
X-ALT-DESC;FMTTYPE=text/html:<span style="color:rgb(42\, 42\, 42)\; font-family:cabin\; font-size:16px"><strong>Central Square\, Cambridge</strong> is home to a vibrant public art scene from Graffiti Alley to various colorful murals around Massachusetts Avenue. Uncover the artists and meaning behind these murals and enjoy delicious eats from local restaurants while you&#39\;re at it. This fun walk will take guests along Massachusetts Avenue right by MIT to uncover the history of the area and the importance of self expression.&nbsp\;</span>
LOCATION:Meeting spot is available on our website at www.offthebeatenpathfoodtours.com.
UID:e.2584.3349
SEQUENCE:3
DTSTAMP:20260424T130420Z
URL:https://business.cambridgechamber.org/events/details/central-square-cambridge-food-and-mural-arts-tour-09-14-2019-3349
END:VEVENT

END:VCALENDAR
