BEGIN:VCALENDAR
VERSION:2.0
PRODID:-//ChamberMaster//Event Calendar 2.0//EN
METHOD:PUBLISH
X-PUBLISHED-TTL:P3D
REFRESH-INTERVAL:P3D
CALSCALE:GREGORIAN
BEGIN:VEVENT
DTSTART:20210317T160000Z
DTEND:20210318T020000Z
X-MICROSOFT-CDO-ALLDAYEVENT:FALSE
SUMMARY:Celebrate Saint Patrick’s Day at GoPixelYourself at CambridgeSide
DESCRIPTION:There may not be a Saint Patrick's Day parade this year\, but GoPixelYourself provides plenty of leprechaun fun! GoPixelYourself is an Instagrammable museum featuring a 12-room immersive experience including a special Saint Patrick's Day room. Each lucky visitor will receive a free pretzel from World of Beer to go with your Irish stout. GoPixelYourself at CambridgeSide (CambridgeSide.com) is open Fridays from 1pm to 8:30pm\, Saturdays 11am to 8pm and Sundays\, 11:00am to 8pm. with special hours on Saint Patrick's Day\, Wednesday\, March 17 from 12pm to 10pm.\n\n \n\nEnjoy a 747-jet ready for flight\, a glittering 'bling room'\, a chance to be a Pop Star and more. Created by Parker 3D\, GoPixelYourself is the next generation in the selfie-museum genre and features never-before-seen enhancements including 12\,000 square feet space with 4\,000 square feet of ever-changing animated digital video wall. Automated cameras deliver animated movies\, GIFs\, and selfies to each visitor. Every guest receives a website link to download photos and videos of their experience.\n\n \n\nThe experience is designed with safety in mind. All visitors schedule their own private groups of up to eight people with pre-reserved times. Every guest receives a non-touch fever check upon entry. Additional safety procedures include hand sanitizing stations\, cleaning after every group\, touchless cameras\, social distancing protocols and more. Tickets are $30\, visit GoPixelYourself.com to schedule a spot!
X-ALT-DESC;FMTTYPE=text/html:There may not be a Saint Patrick&rsquo\;s Day parade this year\, but GoPixelYourself provides plenty of leprechaun fun!&nbsp\;GoPixelYourself is an Instagrammable museum featuring a 12-room immersive experience including a special Saint Patrick&rsquo\;s Day room. Each lucky visitor will receive a free pretzel from World of Beer to go with your Irish stout. GoPixelYourself at CambridgeSide (<a href="https://www.cambridgeside.com/" target="_blank">CambridgeSide.com</a>) is open Fridays from 1pm to 8:30pm\, Saturdays 11am to 8pm and Sundays\, 11:00am to 8pm. with special hours on Saint Patrick&rsquo\;s Day\, Wednesday\, March 17 from 12pm to 10pm.<br />\n&nbsp\;<br />\nEnjoy a 747-jet ready for flight\, a glittering &lsquo\;bling room&rsquo\;\, a chance to be a Pop Star and more. Created by Parker 3D\, GoPixelYourself is the next generation in the selfie-museum genre and features never-before-seen enhancements including 12\,000 square feet space with 4\,000 square feet of ever-changing animated digital video wall. Automated cameras deliver animated movies\, GIFs\, and selfies to each visitor. Every guest receives a website link to download photos and videos of their experience.<br />\n&nbsp\;<br />\nThe experience is designed with safety in mind. All visitors schedule their own private groups of up to eight people with pre-reserved times. Every guest receives a non-touch fever check upon entry. Additional safety procedures include hand sanitizing stations\, cleaning after every group\, touchless cameras\, social distancing protocols and more. Tickets are $30\, visit <a href="http://www.gopixelyourself.com/" target="_blank">GoPixelYourself.com</a> to schedule a spot!
LOCATION:CambridgeSide 100 CambridgeSide Place Cambridge\, MA 02141
UID:e.2584.5978
SEQUENCE:3
DTSTAMP:20260423T085502Z
URL:https://business.cambridgechamber.org/events/details/celebrate-saint-patrick-s-day-at-gopixelyourself-at-cambridgeside-03-17-2021-5978
END:VEVENT

END:VCALENDAR
