BEGIN:VCALENDAR
VERSION:2.0
PRODID:-//ChamberMaster//Event Calendar 2.0//EN
METHOD:PUBLISH
X-PUBLISHED-TTL:P3D
REFRESH-INTERVAL:P3D
CALSCALE:GREGORIAN
BEGIN:VEVENT
DTSTART:20200205T130000Z
DTEND:20200205T140000Z
X-MICROSOFT-CDO-ALLDAYEVENT:FALSE
SUMMARY:Celebrate our transformation at Staples Connect
DESCRIPTION:Your local Cambridge Staples is now Staples Connect \, a reimagined store with coworking\, podcasting and community spaces where professionals\, teachers and students of life can connect and grow together. Now\, we do more than supply your success\, we offer a place that inspires sharing and hands-on learning.\n\n \n\nStop by to explore the brand-new space this February 5th and enjoy refreshments\, raffles\, giveaways and 20% off in store all day (exclusions apply). Plus our first 100 visitors will get a free $50 gift card. See all the offer details here: https://www.staplesconnect.com/terms-conditions/grand-opening\n\n \n\nFor more info about Staples Connect\, visit staplesconnect.com.
X-ALT-DESC;FMTTYPE=text/html:Your local Cambridge Staples is now Staples Connect&trade\;\, a reimagined store with coworking\, podcasting and community spaces where professionals\, teachers and students of life can connect and grow together. Now\, we do more than supply your success\, we offer a place that inspires sharing and hands-on learning.<br />\n&nbsp\;<br />\nStop by to explore the brand-new space this February 5th and enjoy refreshments\, raffles\, giveaways and 20% off in store all day (exclusions apply). Plus our first 100 visitors will get a free $50 gift card. See all the offer details here: <a href="https://www.staplesconnect.com/terms-conditions/grand-opening">https://www.staplesconnect.com/terms-conditions/grand-opening</a><br />\n&nbsp\;<br />\nFor more info about Staples Connect\, visit <a href="staplesconnect.com">staplesconnect.com</a>.<br />\n&nbsp\;
LOCATION:186 Alewife Brook Pkwy\, Cambridge\, MA 02138.
UID:e.2584.4737
SEQUENCE:3
DTSTAMP:20260424T050806Z
URL:https://business.cambridgechamber.org/events/details/celebrate-our-transformation-at-staples-connect-4737
END:VEVENT

END:VCALENDAR
