BEGIN:VCALENDAR
VERSION:2.0
PRODID:-//ChamberMaster//Event Calendar 2.0//EN
METHOD:PUBLISH
X-PUBLISHED-TTL:P3D
REFRESH-INTERVAL:P3D
CALSCALE:GREGORIAN
BEGIN:VEVENT
DTSTART:20190613T110000Z
DTEND:20190618T000000Z
X-MICROSOFT-CDO-ALLDAYEVENT:FALSE
SUMMARY:CCSC Roundtable Presentations
DESCRIPTION:Community Charter School of Cambridge (CCSC) would be pleased to have you as a guest at our thirteenth annual Roundtable portfolio presentations on June 13\, 14\, and 17. All students at CCSC must present a portfolio of their work in order to be promoted to the next grade. Guests at Roundtables have a chance to see substantive work done by 6th through 11th grade students\, to hear students' reflections on the year\, and to ask questions. Roundtables are a much more authentic experience if students are presenting to adults from outside the school\, so we count on community members to donate their time. Guests may attend as many Roundtables as they like\, and our guests have found the experience to be most valuable when they can stay for 2-3 presentations. Even if you can only attend one\, we would love to have you! If you are interested in participating\, please fill out this form.
X-ALT-DESC;FMTTYPE=text/html:Community Charter School of Cambridge (CCSC) would be pleased to have you as a guest at our thirteenth annual Roundtable portfolio presentations on June 13\, 14\, and 17. All students at CCSC must present a portfolio of their work in order to be promoted to the next grade. Guests at Roundtables have a chance to see substantive work done by 6th through 11th grade students\, to hear students&#39\; reflections on the year\, and to ask questions. Roundtables are a much more authentic experience if students are presenting to adults from outside the school\, so we count on community members to donate their time. Guests may attend as many Roundtables as they like\, and our guests have found the experience to be most valuable when they can stay for 2-3 presentations. Even if you can only attend one\, we would love to have you! If you are interested in participating\, please fill out this <a href="https://docs.google.com/forms/d/e/1FAIpQLSfWv_K9f7_hzVZtC-sNeMamLM7NjZ0Hpo1cpZ1xVA9rbXpUnA/viewform">form</a>.
LOCATION:Community Charter School of Cambridge 245 Bent St. Cambridge\, MA 02141
UID:e.2584.4503
SEQUENCE:3
DTSTAMP:20260424T181913Z
URL:https://business.cambridgechamber.org/events/details/ccsc-roundtable-presentations-4503
END:VEVENT

END:VCALENDAR
