BEGIN:VCALENDAR
VERSION:2.0
PRODID:-//ChamberMaster//Event Calendar 2.0//EN
METHOD:PUBLISH
X-PUBLISHED-TTL:P3D
REFRESH-INTERVAL:P3D
CALSCALE:GREGORIAN
BEGIN:VEVENT
DTSTART;VALUE=DATE:20200701
DTEND;VALUE=DATE:20210101
TRANSP:TRANSPARENT
X-MICROSOFT-CDO-ALLDAYEVENT:TRUE
SUMMARY:#CambridgeTogether T-Shirts
DESCRIPTION:Please click the Register Button to purchase a face covering or a t-shirt. \n\nSizes Available:\n\n\n	Small \n	Medium \n	Large \n	X-Large\n	XX-Large\n\n\nUpon purchasing\, please select your shirt size or face covering. Local delivery is free\, if you live outside Cambridge delivery is $5.
X-ALT-DESC;FMTTYPE=text/html:<p><span style="font-size:28px\;"><span style="font-family:arial\;">Please click the Register Button to purchase a face covering or a t-shirt.&nbsp\;<br />\nSizes Available:</span></span></p>\n\n<ul>\n	<li><span style="font-size:20px\;">Small&nbsp\;</span></li>\n	<li><span style="font-size:20px\;">Medium&nbsp\;</span></li>\n	<li><span style="font-size:20px\;">Large&nbsp\;</span></li>\n	<li><span style="font-size: 20px\;">X-Large</span></li>\n	<li><span style="font-size: 20px\;">XX-Large</span></li>\n</ul>\n\n<p><span style="font-size:28px\;"><span style="font-family:arial\;"><span style="font-size:24px\;">Upon purchasing\, please select your shirt size or face covering. Local delivery is free\, if you live outside Cambridge delivery is $5.&nbsp\;</span></span></span></p>\n
LOCATION:
UID:e.2584.5386
SEQUENCE:3
DTSTAMP:20260423T143652Z
URL:https://business.cambridgechamber.org/events/details/cambridgetogether-t-shirts-5386
END:VEVENT

END:VCALENDAR
