BEGIN:VCALENDAR
VERSION:2.0
PRODID:-//ChamberMaster//Event Calendar 2.0//EN
METHOD:PUBLISH
X-PUBLISHED-TTL:P3D
REFRESH-INTERVAL:P3D
CALSCALE:GREGORIAN
BEGIN:VEVENT
DTSTART;VALUE=DATE:20201030
DTEND;VALUE=DATE:20201031
TRANSP:TRANSPARENT
X-MICROSOFT-CDO-ALLDAYEVENT:TRUE
SUMMARY:CambridgeSide to Host Canned Food Drive for The Salvation Army of Cambridge
DESCRIPTION:Help local families in need this Thanksgiving! CambridgeSide is hosting a canned food drive\, now through November 18\, 2020 for The Salvation Army of Cambridge\, for Thanksgiving basket benefitting families in Cambridge\, Somerville and Arlington.\n\n \n\nSuggested donation items include: Baking Mixes\, Canned Vegetables\, Stuffing Mix\, Potato Mix\, Pie Filling + Crust Mix\, Cranberry Sauce\, Gravy\, Pie + Roasting Pans\, Baby Food\, Freezer Bags and more. Donations can be dropped off at the Welcome Center on Level 1. For more information\, or to make an online donation\, visit CambridgeSide.com.
X-ALT-DESC;FMTTYPE=text/html:Help local families in need this Thanksgiving!&nbsp\;CambridgeSide is hosting a canned food drive\, now through November 18\, 2020 for The Salvation Army of Cambridge\, for Thanksgiving basket benefitting families in Cambridge\, Somerville and Arlington.<br />\n&nbsp\;<br />\nSuggested donation items include: Baking Mixes\, Canned Vegetables\, Stuffing Mix\, Potato Mix\, Pie Filling + Crust Mix\, Cranberry Sauce\, Gravy\, Pie&nbsp\;+ Roasting Pans\, Baby Food\, Freezer Bags and more. Donations can be dropped off at the Welcome Center on Level 1. For more information\, or to make an online donation\, visit <a href="https://www.cambridgeside.com/">CambridgeSide.com</a>.
LOCATION:CambridgeSide 100 CambridgeSide Place Cambridge\, MA 02141
UID:e.2584.5453
SEQUENCE:3
DTSTAMP:20260423T161914Z
URL:https://business.cambridgechamber.org/events/details/cambridgeside-to-host-canned-food-drive-for-the-salvation-army-of-cambridge-10-30-2020-5453
END:VEVENT

END:VCALENDAR
