BEGIN:VCALENDAR
VERSION:2.0
PRODID:-//ChamberMaster//Event Calendar 2.0//EN
METHOD:PUBLISH
X-PUBLISHED-TTL:P3D
REFRESH-INTERVAL:P3D
CALSCALE:GREGORIAN
BEGIN:VEVENT
DTSTART:20200820T150000Z
DTEND:20200820T203000Z
X-MICROSOFT-CDO-ALLDAYEVENT:FALSE
SUMMARY:CambridgeSide to Host Blood Drive with Massachusetts General Hospital Blood Donor Program
DESCRIPTION:The need for blood donations continues! CambridgeSide will host a blood donation drive in partnership with Massachusetts General Hospital (MGH) Blood Donor Program Thursday August 20th from 11 a.m. to 4:30 p.m. The blood drive will be held in the MGH mobile units in Canal Park. MGH will establish additional safety guidelines to ensure all donors are socially distanced. Massachusetts General Hospital now faces a severe blood shortage due to blood drive cancellations in response to the coronavirus outbreak. Donors are asked to register in advance by visiting CambridgeSide.com.
X-ALT-DESC;FMTTYPE=text/html:The need for blood donations continues! CambridgeSide will host a blood donation drive in partnership with Massachusetts General Hospital (MGH) Blood Donor Program Thursday August 20<sup>th</sup> from 11 a.m. to 4:30 p.m. The blood drive will be held in the MGH mobile units in Canal Park. MGH will establish additional safety guidelines to ensure all donors are socially distanced. Massachusetts General Hospital now faces a severe blood shortage due to blood drive cancellations in response to the coronavirus outbreak. Donors are asked to register in advance by visiting <a href="https://www.cambridgeside.com/">CambridgeSide.com</a>.
LOCATION:CambridgeSide 100 CambridgeSide Place Cambridge\, MA 02141
UID:e.2584.5414
SEQUENCE:3
DTSTAMP:20260423T192216Z
URL:https://business.cambridgechamber.org/events/details/cambridgeside-to-host-blood-drive-with-massachusetts-general-hospital-blood-donor-program-5414
END:VEVENT

END:VCALENDAR
