BEGIN:VCALENDAR
VERSION:2.0
PRODID:-//ChamberMaster//Event Calendar 2.0//EN
METHOD:PUBLISH
X-PUBLISHED-TTL:P3D
REFRESH-INTERVAL:P3D
CALSCALE:GREGORIAN
BEGIN:VEVENT
DTSTART:20201127T160000Z
DTEND:20201127T210000Z
X-MICROSOFT-CDO-ALLDAYEVENT:FALSE
SUMMARY:CambridgeSide to Host American Red Cross Blood Drives this Fall with COVID-19 Antibody Testing
DESCRIPTION:Together we can save a life. CambridgeSide will host two blood donation drives in partnership with the American Red Cross (RedCross.org) this Fall on the following dates from 11am to 4pm:\n\n \n\nFriday\, October 23\, 2020\n\nFriday\, November 27\, 2020\n\n \n\nThe American Red Cross is now testing all blood\, platelet\, and plasma donations for the COVID-19 antibody. Appointments are required. For more information or to register\, visit CambridgeSide.com.
X-ALT-DESC;FMTTYPE=text/html:Together we can save a life. CambridgeSide will host two blood donation drives in partnership with the American Red Cross (<a href="http://www.redcross.org/">RedCross.org</a>) this Fall on the following dates from 11am to 4pm:<br />\n&nbsp\;<br />\nFriday\, October 23\, 2020<br />\nFriday\, November 27\, 2020<br />\n&nbsp\;<br />\nThe American Red Cross is now testing all blood\, platelet\, and plasma donations for the COVID-19 antibody. Appointments are required. For more information or to register\, visit <a href="https://urldefense.proofpoint.com/v2/url?u=http-3A__cambridgeside.com_&amp\;d=DwMGaQ&amp\;c=tgH_BtXR-501zcdE8-dvRgEg8aWmdQ-cSUXqw1qnbGU&amp\;r=ZW5DNX3_PLASfZlEeqajyePNbzKH7Bvb-FUSoG37WTE&amp\;m=Ru7KZ2RgpR3knJi6vHteoi6QnP6SltMiKVmfbyQXMOY&amp\;s=BXm2eD4Zqje4bDcb0XEEX4A8r1Y_gouzS2Z6u0VpOrY&amp\;e="><span style="color:windowtext">CambridgeSide.com</span></a>.
LOCATION:CambridgeSide 100 CambridgeSide Place Cambridge\, MA 02141
UID:e.2584.5444
SEQUENCE:3
DTSTAMP:20260423T161548Z
URL:https://business.cambridgechamber.org/events/details/cambridgeside-to-host-american-red-cross-blood-drives-this-fall-with-covid-19-antibody-testing-11-27-2020-5444
END:VEVENT

END:VCALENDAR
