BEGIN:VCALENDAR
VERSION:2.0
PRODID:-//ChamberMaster//Event Calendar 2.0//EN
METHOD:PUBLISH
X-PUBLISHED-TTL:P3D
REFRESH-INTERVAL:P3D
CALSCALE:GREGORIAN
BEGIN:VEVENT
DTSTART:20200731T150000Z
DTEND:20200731T200000Z
X-MICROSOFT-CDO-ALLDAYEVENT:FALSE
SUMMARY:CambridgeSide to Host American Red Cross Blood Drive with COVID-19 Antibody Testing
DESCRIPTION:Give blood\, safe lives. Help those in need! CambridgeSide will host a blood donation drive in partnership with the American Red Cross on Friday\, July 31\, 2020 from 11 a.m. to 4 p.m. American Red Cross is now testing blood for the COVID-19 antibody. Donors can expect to receive the results of their antibody test within 7 to 10 days through the Red Cross Blood Donor App or on the donor portal at RedCrossBlood.org.\n\n \n\nThe CambridgeSide blood drive will be held on Level 2 across from Old Navy. The American Red Cross will establish additional safety guidelines to ensure all donors are socially distanced. Donors are asked to register in advance by visiting CambridgeSide.com.
X-ALT-DESC;FMTTYPE=text/html:<span style="color:black\;">Give blood\, safe lives. Help those in need! CambridgeSide </span><span style="color:black\;">will host a blood donation drive in partnership with the American Red Cross on Friday\, July 31\, 2020 from 11 a.m. to 4 p.m. American Red Cross is now testing blood for the COVID-19 antibody. Donors can expect to receive the results of their antibody test within 7 to 10 days through the Red Cross Blood Donor App or on the donor portal at <a href="https://www.redcrossblood.org/"><span style="color:black\;">RedCrossBlood.org</span></a>.</span><br />\n&nbsp\;<br />\n<a name="x__Hlk42066460"></a><span style="color:black\;">The CambridgeSide blood drive will be held on Level 2 across from Old Navy. The American Red Cross will establish additional safety guidelines to ensure all donors are socially distanced. Donors are asked to register in advance by visiting <u>CambridgeSide.com. </u></span>
LOCATION:
UID:e.2584.5387
SEQUENCE:3
DTSTAMP:20260423T222958Z
URL:https://business.cambridgechamber.org/events/details/cambridgeside-to-host-american-red-cross-blood-drive-with-covid-19-antibody-testing-5387
END:VEVENT

END:VCALENDAR
