BEGIN:VCALENDAR
VERSION:2.0
PRODID:-//ChamberMaster//Event Calendar 2.0//EN
METHOD:PUBLISH
X-PUBLISHED-TTL:P3D
REFRESH-INTERVAL:P3D
CALSCALE:GREGORIAN
BEGIN:VEVENT
DTSTART:20200426T140000Z
DTEND:20200426T170000Z
X-MICROSOFT-CDO-ALLDAYEVENT:FALSE
SUMMARY:CambridgeSide Soap Box Derby Rally
DESCRIPTION:CambridgeSide (CambridgeSide.com) is hosting the Arlington/Cambridge Soap Box Derby Winter Rallies for the third consecutive year. The exciting races take place in a unique location\, the parking garage at CambridgeSide. This allows racing all year round and brings together dozens of racers and their families for a day of fun. Watching is free and open to the public.\n\n \n\nThe Soap Box Derbies will be held the weekends of Saturday and Sunday\, March 7 & 8\, March 28 & 29\, and April 25 & 26\, 2020. Races kick-off at 10:00 a.m. each scheduled day. For more information\, visit CambridgeSide.com.
X-ALT-DESC;FMTTYPE=text/html:<span style="font-size:20px\;"><span style="font-family:arial\,sans-serif\;">CambridgeSide (</span><a href="http://www.cambridgeside.com/"><span style="font-family:arial\,sans-serif\;">CambridgeSide.com</span></a><span style="font-family:arial\,sans-serif\;">) is hosting the Arlington/Cambridge Soap Box Derby Winter Rallies for the third consecutive year. The exciting races take place in a unique location\, the parking garage at CambridgeSide. This allows racing all year round and brings together dozens of racers and their families for a day of fun. Watching is free and open to the public.</span><br />\n&nbsp\;<br />\n<span style="font-family:arial\,sans-serif\;">The Soap Box Derbies will be held the weekends of Saturday and Sunday\, March 7 &amp\; 8\, March 28 &amp\; 29\, and April 25 &amp\; 26\, 2020. Races kick-off at 10:00 a.m. each scheduled day. For more information\, visit CambridgeSide.com.</span></span>
LOCATION:
UID:e.2584.5363
SEQUENCE:3
DTSTAMP:20260424T014349Z
URL:https://business.cambridgechamber.org/events/details/cambridgeside-soap-box-derby-rally-5363
END:VEVENT

END:VCALENDAR
