BEGIN:VCALENDAR
VERSION:2.0
PRODID:-//ChamberMaster//Event Calendar 2.0//EN
METHOD:PUBLISH
X-PUBLISHED-TTL:P3D
REFRESH-INTERVAL:P3D
CALSCALE:GREGORIAN
BEGIN:VEVENT
DTSTART:20210617T200000Z
DTEND:20210617T230000Z
X-MICROSOFT-CDO-ALLDAYEVENT:FALSE
SUMMARY:CambridgeSide Job Fair
DESCRIPTION:Shop for a new  career. Visit CambridgeSide's Job Fair being held on Thursday\, June 17 from 4 p.m. to 7 p.m. and meet with restaurants\, retailers + more! Plus receive styling + interview tips presented by Dress for Success Boston\, complimentary headshot by a professional photographer (first come\, first served\, while supplies last) + more. For more information\, please visit CambridgeSide.com/events.
X-ALT-DESC;FMTTYPE=text/html:Shop for a new&nbsp\; career. Visit CambridgeSide&rsquo\;s Job Fair being held on Thursday\, June 17 from 4 p.m. to 7 p.m. and meet with restaurants\, retailers + more! Plus receive styling + interview tips presented by Dress for Success Boston\, complimentary headshot by a professional photographer (first come\, first served\, while supplies last) + more. For more information\, please visit <a href="http://www.cambridgeside.com/events/">CambridgeSide.com/events.</a>
LOCATION:CambridgeSide 100 CambridgeSide Place Cambridge\, MA 02141
UID:e.2584.6083
SEQUENCE:3
DTSTAMP:20260423T062638Z
URL:https://business.cambridgechamber.org/events/details/cambridgeside-job-fair-6083
END:VEVENT

END:VCALENDAR
