BEGIN:VCALENDAR
VERSION:2.0
PRODID:-//ChamberMaster//Event Calendar 2.0//EN
METHOD:PUBLISH
X-PUBLISHED-TTL:P3D
REFRESH-INTERVAL:P3D
CALSCALE:GREGORIAN
BEGIN:VEVENT
DTSTART;VALUE=DATE:20200501
DTEND;VALUE=DATE:20200511
TRANSP:TRANSPARENT
X-MICROSOFT-CDO-ALLDAYEVENT:TRUE
SUMMARY:CambridgeSide is Looking for Local Artists for Virtual Exhibition
DESCRIPTION:CALLING ALL ARTISTS! CambridgeSide is looking for local artists to submit photographs of your work for chance to be featured in the virtual exhibition\, #HappyDistraction. Submit an Instagram ready photo with one sentence description\, representing moments of hope\, light and color during this difficult time. Selected artists' works will be featured on CambridgeSide's social media pages\, email blasts and more. To visit the virtual gallery or submit artwork\, please visit CambridgeSide.com/HappyDistraction.
X-ALT-DESC;FMTTYPE=text/html:CALLING ALL ARTISTS! CambridgeSide is looking for local artists to submit photographs of your work for chance to be featured in the virtual exhibition\, #HappyDistraction. Submit an Instagram ready photo with one sentence description\, representing moments of hope\, light and color during this difficult time. Selected artists&rsquo\; works will be featured on CambridgeSide&rsquo\;s social media pages\, email blasts and more. To visit the virtual gallery or submit artwork\, please visit CambridgeSide.com/HappyDistraction.
LOCATION:CambridgeSide 100 CambridgeSide Place Cambridge\, MA 02141
UID:e.2584.5384
SEQUENCE:3
DTSTAMP:20260424T001105Z
URL:https://business.cambridgechamber.org/events/details/cambridgeside-is-looking-for-local-artists-for-virtual-exhibition-5384
END:VEVENT

END:VCALENDAR
