BEGIN:VCALENDAR
VERSION:2.0
PRODID:-//ChamberMaster//Event Calendar 2.0//EN
METHOD:PUBLISH
X-PUBLISHED-TTL:P3D
REFRESH-INTERVAL:P3D
CALSCALE:GREGORIAN
BEGIN:VEVENT
DTSTART;VALUE=DATE:20210304
DTEND;VALUE=DATE:20210305
TRANSP:TRANSPARENT
X-MICROSOFT-CDO-ALLDAYEVENT:TRUE
SUMMARY:CambridgeSide Hosts Soup for the Soul Donation Drive for The Salvation Army in Cambridge
DESCRIPTION:Help those in need this winter by donating soup! Canned and boxed soup donations can be dropped off at World of Beer and CVS at CambridgeSide. The Soup for the Soul drive runs through Sunday\, March 7\, 2021. All donations benefit The Salvation Army of Cambridge. For more information or to make a monetary donation\, visit CambridgeSide.com/events.
X-ALT-DESC;FMTTYPE=text/html:Help those in need this winter by donating soup! Canned and boxed soup donations can be dropped off at World of Beer and CVS at CambridgeSide. The Soup for the Soul drive runs through Sunday\, March 7\, 2021. All donations benefit The Salvation Army of Cambridge. For more information or to make a monetary donation\, visit CambridgeSide.com/events.
LOCATION:CambridgeSide 100 CambridgeSide Place Cambridge\, MA 02141
UID:e.2584.5967
SEQUENCE:3
DTSTAMP:20260423T085658Z
URL:https://business.cambridgechamber.org/events/details/cambridgeside-hosts-soup-for-the-soul-donation-drive-for-the-salvation-army-in-cambridge-03-04-2021-5967
END:VEVENT

END:VCALENDAR
