BEGIN:VCALENDAR
VERSION:2.0
PRODID:-//ChamberMaster//Event Calendar 2.0//EN
METHOD:PUBLISH
X-PUBLISHED-TTL:P3D
REFRESH-INTERVAL:P3D
CALSCALE:GREGORIAN
BEGIN:VEVENT
DTSTART:20211110T160000Z
DTEND:20211110T210000Z
X-MICROSOFT-CDO-ALLDAYEVENT:FALSE
SUMMARY:CambridgeSide Hosts November American Red Cross Blood Drive
DESCRIPTION:Save a life. Donate blood. The need is greater than ever. Make an appointment to donate at the American Red Cross Blood Drive on Wednesday\, November 10\, 2021 from 11 a.m. to 4 p.m. at CambridgeSide. Donors are asked to register in advance by visiting rcblood.org/3qee9Kc. The drive will be held on Level 2 at CambridgeSide. The American Red Cross is testing all blood\, platelet\, and plasma donations for the COVID-19 antibody. Organizers will practice advanced safety protocols. Those who cannot donate blood\, can still help by making a monetary donation at RedCross.org/donate/donation. For more information\, visit CambridgeSide.com.
X-ALT-DESC;FMTTYPE=text/html:Save a life. Donate blood. The need is greater than ever. Make an appointment to donate at the American Red Cross Blood Drive on Wednesday\, November 10\, 2021 from 11 a.m. to 4 p.m. at CambridgeSide. Donors are asked to register in advance by visiting <a href="https://rcblood.org/3qee9Kc">rcblood.org/3qee9Kc</a>. The drive will be held on Level 2 at CambridgeSide. The American Red Cross is testing all blood\, platelet\, and plasma donations for the COVID-19 antibody. Organizers will practice advanced safety protocols. Those who cannot donate blood\, can still help by making a monetary donation at&nbsp\;<a href="https://urldefense.proofpoint.com/v2/url?u=http-3A__redcross.org_donate_donation&amp\;d=DwMGaQ&amp\;c=tgH_BtXR-501zcdE8-dvRgEg8aWmdQ-cSUXqw1qnbGU&amp\;r=ZW5DNX3_PLASfZlEeqajyePNbzKH7Bvb-FUSoG37WTE&amp\;m=Ru7KZ2RgpR3knJi6vHteoi6QnP6SltMiKVmfbyQXMOY&amp\;s=Tq7kUJRPnwcTVcbqQKjvWSN7SqKi6t5RKbmImHq8cDk&amp\;e=" target="_blank">RedCross.org/donate/donation</a>. For more information\, visit <a href="http://www.cambridgeside.com/">CambridgeSide.com</a>.
LOCATION:CambridgeSide 100 CambridgeSide Place Cambridge\, MA 02141
UID:e.2584.6142
SEQUENCE:3
DTSTAMP:20260422T231003Z
URL:https://business.cambridgechamber.org/events/details/cambridgeside-hosts-november-american-red-cross-blood-drive-6142
END:VEVENT

END:VCALENDAR
