BEGIN:VCALENDAR
VERSION:2.0
PRODID:-//ChamberMaster//Event Calendar 2.0//EN
METHOD:PUBLISH
X-PUBLISHED-TTL:P3D
REFRESH-INTERVAL:P3D
CALSCALE:GREGORIAN
BEGIN:VEVENT
DTSTART:20201111T170000Z
DTEND:20201111T200000Z
X-MICROSOFT-CDO-ALLDAYEVENT:FALSE
SUMMARY:CambridgeSide Hosts Flu Shot Clinic in Partnership with CVS
DESCRIPTION:Have you had your flu shot yet? It is more important than ever to protect yourself from the seasonal flu. CambridgeSide\, in partnership with CVS\, will host a flu shot clinic on Wednesday\, November 11 from 12pm to 3pm at the center. It is a quick and convenient way to get your annual flu shot. For more information or to pre-register and schedule your appointment\, visit CambridgeSide.com/events.
X-ALT-DESC;FMTTYPE=text/html:Have you had your flu shot yet? It is more important than ever to protect yourself from the seasonal flu. CambridgeSide\, in partnership with CVS\, will host a flu shot clinic on Wednesday\, November 11 from 12pm to 3pm at the center. It is a quick and convenient way to get your annual flu shot. For more information or to pre-register and schedule your appointment\, visit <a href="http://cambridgeside.com/events">CambridgeSide.com/events</a>.
LOCATION:CambridgeSide 100 CambridgeSide Place Cambridge\, MA 02141
UID:e.2584.5474
SEQUENCE:3
DTSTAMP:20260423T145554Z
URL:https://business.cambridgechamber.org/events/details/cambridgeside-hosts-flu-shot-clinic-in-partnership-with-cvs-5474
END:VEVENT

END:VCALENDAR
