BEGIN:VCALENDAR
VERSION:2.0
PRODID:-//ChamberMaster//Event Calendar 2.0//EN
METHOD:PUBLISH
X-PUBLISHED-TTL:P3D
REFRESH-INTERVAL:P3D
CALSCALE:GREGORIAN
BEGIN:VEVENT
DTSTART:20210212T160000Z
DTEND:20210212T210000Z
X-MICROSOFT-CDO-ALLDAYEVENT:FALSE
SUMMARY:CambridgeSide Hosts February American Red Cross Blood Drive
DESCRIPTION:Help save lives! Donate blood by making an appointment for the American Red Cross blood drive on Friday\, February 12\, 2021 from 11:00 a.m. to 4:00 p.m. at CambridgeSide. The American Red Cross is now testing all blood\, platelet\, and plasma donations for the COVID-19 antibody. Additional safety guidelines are in place to ensure all donors are socially distanced. Donors are asked to register in advance by visiting CambridgeSide.com. Those who cannot donate blood\, can still help by making a monetary donation at RedCross.org/donate/donation.
X-ALT-DESC;FMTTYPE=text/html:Help save lives! Donate blood by making an appointment for the American Red Cross blood drive on Friday\, February 12\, 2021 from 11:00 a.m. to 4:00 p.m. at CambridgeSide. The American Red Cross is now testing all blood\, platelet\, and plasma donations for the COVID-19 antibody. Additional safety guidelines are in place to ensure all donors are socially distanced. Donors are asked to register in advance by visiting&nbsp\;<a href="https://urldefense.proofpoint.com/v2/url?u=http-3A__cambridgeside.com_&amp\;d=DwMGaQ&amp\;c=tgH_BtXR-501zcdE8-dvRgEg8aWmdQ-cSUXqw1qnbGU&amp\;r=ZW5DNX3_PLASfZlEeqajyePNbzKH7Bvb-FUSoG37WTE&amp\;m=Ru7KZ2RgpR3knJi6vHteoi6QnP6SltMiKVmfbyQXMOY&amp\;s=BXm2eD4Zqje4bDcb0XEEX4A8r1Y_gouzS2Z6u0VpOrY&amp\;e=">CambridgeSide.com</a>. Those who cannot donate blood\, can still help by making a monetary donation at&nbsp\;<a href="https://urldefense.proofpoint.com/v2/url?u=http-3A__redcross.org_donate_donation&amp\;d=DwMGaQ&amp\;c=tgH_BtXR-501zcdE8-dvRgEg8aWmdQ-cSUXqw1qnbGU&amp\;r=ZW5DNX3_PLASfZlEeqajyePNbzKH7Bvb-FUSoG37WTE&amp\;m=Ru7KZ2RgpR3knJi6vHteoi6QnP6SltMiKVmfbyQXMOY&amp\;s=Tq7kUJRPnwcTVcbqQKjvWSN7SqKi6t5RKbmImHq8cDk&amp\;e=" target="_blank">RedCross.org/donate/donation</a>.
LOCATION:CambridgeSide 100 CambridgeSide Place Cambridge\, MA 02141
UID:e.2584.5921
SEQUENCE:3
DTSTAMP:20260423T101640Z
URL:https://business.cambridgechamber.org/events/details/cambridgeside-hosts-february-american-red-cross-blood-drive-5921
END:VEVENT

END:VCALENDAR
