BEGIN:VCALENDAR
VERSION:2.0
PRODID:-//ChamberMaster//Event Calendar 2.0//EN
METHOD:PUBLISH
X-PUBLISHED-TTL:P3D
REFRESH-INTERVAL:P3D
CALSCALE:GREGORIAN
BEGIN:VEVENT
DTSTART:20201210T160000Z
DTEND:20201210T210000Z
X-MICROSOFT-CDO-ALLDAYEVENT:FALSE
SUMMARY:CambridgeSide Hosts Blood Drive with Massachusetts General Hospital Blood Donor Program
DESCRIPTION:Giving is the greatest gift of all this holiday season. Give blood at CambridgeSide for the Massachusetts General Hospital (MGH) Blood Donor Program Thursday\, December 10\, 2020 from 11 a.m. to 4 p.m. in Canal Park next to CambridgeSide's Food Court Entrance. In order to maintain physical distancing\, advanced reservations are required. Donors are asked register in advance by visiting CambridgeSide.com.
X-ALT-DESC;FMTTYPE=text/html:Giving is the greatest gift of all this holiday season.&nbsp\;Give blood at CambridgeSide for the Massachusetts General Hospital (MGH) Blood Donor Program Thursday\, December 10\, 2020 from 11 a.m. to 4 p.m. in Canal Park next to CambridgeSide&rsquo\;s Food Court Entrance. In order to maintain physical distancing\, advanced reservations are required. Donors are asked register in advance by visiting CambridgeSide.com.
LOCATION:CambridgeSide\, 100 CambridgeSide Place\, Cambridge\, MA 02141 at Canal Park next to CambridgeSide's Food Court Entrance.
UID:e.2584.5893
SEQUENCE:3
DTSTAMP:20260423T131133Z
URL:https://business.cambridgechamber.org/events/details/cambridgeside-hosts-blood-drive-with-massachusetts-general-hospital-blood-donor-program-5893
END:VEVENT

END:VCALENDAR
