BEGIN:VCALENDAR
VERSION:2.0
PRODID:-//ChamberMaster//Event Calendar 2.0//EN
METHOD:PUBLISH
X-PUBLISHED-TTL:P3D
REFRESH-INTERVAL:P3D
CALSCALE:GREGORIAN
BEGIN:VEVENT
DTSTART;VALUE=DATE:20210328
DTEND;VALUE=DATE:20210329
TRANSP:TRANSPARENT
X-MICROSOFT-CDO-ALLDAYEVENT:TRUE
SUMMARY:CambridgeSide Hosts Black Owned Bos. Pop-Up Event
DESCRIPTION:CambridgeSide will host The Making of Her Story\, a pop-up retail market created by Black Owned Bos. (BlackOwnedBos.com)\, from Friday\, March 26 through Sunday\, March 28\, 2021 on Level 2. Acknowledging the stories\, legacy and contributions of women navigating the entrepreneurship space\, the pop-up is a curated collective of featured women entrepreneurs showcasing their business\, from handmade jewelry\, housewares\, fashion\, skincare and more. 10 vendors will be featured each day. The Making of Her Story is the culmination of a month-long campaign by Black Owned Bos. commemorating Women's History Month. For hours and more information\, visit CambridgeSide.com.
X-ALT-DESC;FMTTYPE=text/html:CambridgeSide will host <em>The Making of Her Story</em>\, a pop-up retail market created by Black Owned Bos. (<a href="http://www.blackownedbos.com/">BlackOwnedBos.com</a>)\, from Friday\, March 26 through Sunday\, March 28\, 2021 on Level 2. Acknowledging the stories\, legacy and contributions of women navigating the entrepreneurship space\, the pop-up is a curated collective of featured women entrepreneurs showcasing their business\, from handmade jewelry\, housewares\, fashion\, skincare and more. 10 vendors will be featured each day. <em>The Making of Her Story</em> is the culmination of a month-long campaign by Black Owned Bos. commemorating Women&rsquo\;s History Month<em>.</em>&nbsp\;For hours and more information\, visit <a href="https://www.cambridgeside.com/event/Black-Owned-Bos-Pop-Up-Her-Story/2145548771/">CambridgeSide.com</a>.
LOCATION:CambridgeSide 100 CambridgeSide Place Cambridge\, MA 02141
UID:e.2584.5982
SEQUENCE:3
DTSTAMP:20260423T085314Z
URL:https://business.cambridgechamber.org/events/details/cambridgeside-hosts-black-owned-bos-pop-up-event-03-28-2021-5982
END:VEVENT

END:VCALENDAR
