BEGIN:VCALENDAR
VERSION:2.0
PRODID:-//ChamberMaster//Event Calendar 2.0//EN
METHOD:PUBLISH
X-PUBLISHED-TTL:P3D
REFRESH-INTERVAL:P3D
CALSCALE:GREGORIAN
BEGIN:VEVENT
DTSTART;VALUE=DATE:20201101
DTEND;VALUE=DATE:20201102
TRANSP:TRANSPARENT
X-MICROSOFT-CDO-ALLDAYEVENT:TRUE
SUMMARY:CambridgeSide Half Marathon
DESCRIPTION:The Cambridge Half Marathon is a 13.1-mile USATF certified course that starts & finishes at CambridgeSide. The fast and flat course takes runners through Cambridge featuring MIT\, John W. Weeks Footbridge\, Harvard Stadium\, Charles River and Harvard Square. Registration includes quarter zip pullover\, a half marathon training plan from the Heartbreak Hill Running Club\, a race bib with a timing chip\, an invitation to the post-race celebration with food and beverages. Registration is now open at CambridgeSide.com.
X-ALT-DESC;FMTTYPE=text/html:<span style="font-size:22px\;"><span style="font-family:arial\,sans-serif\;">The Cambridge Half Marathon is a 13.1-mile USATF certified course that starts &amp\; finishes at CambridgeSide. The fast and flat course takes runners through Cambridge featuring MIT\, John W. Weeks Footbridge\, Harvard Stadium\, Charles River and Harvard Square. <span style="background:white\;">Registration includes quarter zip pullover\, a half marathon training plan from the Heartbreak Hill Running Club\, a race bib with a timing chip\, an invitation to the post-race celebration with food and beverages. </span>Registration is now open at CambridgeSide.com.</span></span>
LOCATION:
UID:e.2584.5372
SEQUENCE:3
DTSTAMP:20260423T143643Z
URL:https://business.cambridgechamber.org/events/details/cambridgeside-half-marathon-5372
END:VEVENT

END:VCALENDAR
