BEGIN:VCALENDAR
VERSION:2.0
PRODID:-//ChamberMaster//Event Calendar 2.0//EN
METHOD:PUBLISH
X-PUBLISHED-TTL:P3D
REFRESH-INTERVAL:P3D
CALSCALE:GREGORIAN
BEGIN:VEVENT
DTSTART:20200520T220000Z
DTEND:20200520T230000Z
X-MICROSOFT-CDO-ALLDAYEVENT:FALSE
SUMMARY:CambridgeSide Fit + Fabulous Fitness Series
DESCRIPTION:April 20th - Barre & Soul\n\n\n\nCambridgeSide is hosting  a  Fit + Fabulous Fitness Series once a month from 6pm to 7pm\, February through May. All classes are FREE and held on Level 2 near Foot Locker. Don't miss this opportunity to select from a wide array of classes from experts in yoga\, Zumba\,boot camps and more!\n\n\n\nRegister Here
X-ALT-DESC;FMTTYPE=text/html:<span style="font-size:20px\;"><span style="color: rgb(82\, 83\, 84)\; font-family: nexa-book\, Helvetica\, Arial\, &quot\;Lucida Grande&quot\;\, sans-serif\; background-color: rgb(255\, 255\, 255)\;">April 20th - Barre &amp\; Soul<br />\n<br />\nCambridgeSide is hosting&nbsp\; a &nbsp\;Fit + Fabulous&nbsp\;Fitness Series once a month from&nbsp\;6pm to 7pm\, February&nbsp\;through May. All classes are FREE and&nbsp\;held on Level 2 near Foot Locker. Don&#39\;t miss this opportunity to select from a wide array of classes from experts in yoga\, Zumba\,boot camps and more!<br />\n<br />\n<a href="https://www.cambridgeside.com/event/Fit-Fabulous-Fitness-Series/2145520993/">Register Here</a>&nbsp\;</span></span>
LOCATION:
UID:e.2584.5350
SEQUENCE:3
DTSTAMP:20260424T001426Z
URL:https://business.cambridgechamber.org/events/details/cambridgeside-fit-fabulous-fitness-series-5350
END:VEVENT

END:VCALENDAR
