BEGIN:VCALENDAR
VERSION:2.0
PRODID:-//ChamberMaster//Event Calendar 2.0//EN
METHOD:PUBLISH
X-PUBLISHED-TTL:P3D
REFRESH-INTERVAL:P3D
CALSCALE:GREGORIAN
BEGIN:VEVENT
DTSTART:20220506T223000Z
DTEND:20220507T003000Z
X-MICROSOFT-CDO-ALLDAYEVENT:FALSE
SUMMARY:Cambridge School Volunteers' Annual Dance Party is Back!
DESCRIPTION:We are happy to announce that - after a two-year hiatus - the CSV annual Dance Party is back! In celebration of the resilience of CSV's hardworking students\, staff\, and volunteers\, let's gather together! CSV invites Cambridge community members to join us for a fun evening of tasty treats and beverages and a world of dance music\, featuring DJ Beshkan and his international beats. Come have fun and support CSV's no-cost programming!\n\n\n\nCambridge School Volunteers is a long-term nonprofit partner of the Cambridge Public Schools. We support the academic achievement and personal success of young people by offering innovative\, adaptable no-cost programs that match caring\, competent community volunteers with students of all needs and levels. We are able to do our work thanks to the generaous support of our sponsors and volunteers. \n\n\n\nFor information about sponsorship levels\, pleas email Executive Director Meg Ramsdell at mramsdell@cpsd.us\n\n\n\nWe are still recruiting volunteers this month\, for our outdoor program and at the high school level. If you'd like to volunteer\, please email us at csv@cpsd.us. Thank you!
X-ALT-DESC;FMTTYPE=text/html:We are happy to announce that - after a two-year hiatus - the CSV annual Dance Party is back! In celebration of the resilience of CSV&#39\;s hardworking students\, staff\, and volunteers\, let&#39\;s gather together! CSV invites Cambridge community members to join us for a fun evening of tasty treats and beverages and a world of dance music\, featuring DJ Beshkan and his international beats. Come have fun and support CSV&#39\;s no-cost programming!<br />\n<br />\nCambridge School Volunteers is a long-term nonprofit partner of the Cambridge Public Schools. We support the academic achievement and personal success of young people by offering innovative\, adaptable no-cost programs that match caring\, competent community volunteers with students of all needs and levels. We are able to do our work thanks to the generaous support of our sponsors and volunteers.&nbsp\;<br />\n<br />\nFor information about sponsorship levels\, pleas email Executive Director Meg Ramsdell at mramsdell@cpsd.us<br />\n<br />\nWe are still recruiting volunteers this month\, for our outdoor program and at the high school level. If you&#39\;d like to volunteer\, please email us at csv@cpsd.us. Thank you!
LOCATION:Philips Innovation Hub at Cambridge Crossing 222 Jacobs Street\, Cambridge
UID:e.2584.6290
SEQUENCE:3
DTSTAMP:20260421T100915Z
URL:https://business.cambridgechamber.org/events/details/cambridge-school-volunteers-annual-dance-party-is-back-6290
END:VEVENT

END:VCALENDAR
