BEGIN:VCALENDAR
VERSION:2.0
PRODID:-//ChamberMaster//Event Calendar 2.0//EN
METHOD:PUBLISH
X-PUBLISHED-TTL:P3D
REFRESH-INTERVAL:P3D
CALSCALE:GREGORIAN
BEGIN:VEVENT
DTSTART:20190918T213000Z
DTEND:20190918T223000Z
X-MICROSOFT-CDO-ALLDAYEVENT:FALSE
SUMMARY:Cambridge Redevelopment Authority Regular Board Meeting
DESCRIPTION:Agenda can be found at www.CambridgeRedevelopment.org/next-meeting
X-ALT-DESC;FMTTYPE=text/html:<span style="font-family:calibri\,sans-serif\;"><span style="font-size:11.0pt\;">Agenda can be found at <a href="http://www.CambridgeRedevelopment.org/next-meeting">www.CambridgeRedevelopment.org/next-meeting</a></span></span>
LOCATION:Police Station 125 Sixth Street
UID:e.2584.4621
SEQUENCE:3
DTSTAMP:20260424T125856Z
URL:https://business.cambridgechamber.org/events/details/cambridge-redevelopment-authority-regular-board-meeting-4621
END:VEVENT

END:VCALENDAR
