BEGIN:VCALENDAR
VERSION:2.0
PRODID:-//ChamberMaster//Event Calendar 2.0//EN
METHOD:PUBLISH
X-PUBLISHED-TTL:P3D
REFRESH-INTERVAL:P3D
CALSCALE:GREGORIAN
BEGIN:VEVENT
DTSTART:20190907T203000Z
DTEND:20190908T010000Z
X-MICROSOFT-CDO-ALLDAYEVENT:FALSE
SUMMARY:Cambridge Camping on the GO!
DESCRIPTION:Cambridge Camping invites you to join us on Saturday\, September 7\, at CambridgeSide for a VIP champagne cruise with the Charles Riverboat Company followed by food\, drinks\, and live music from American Symphony of Soul at a party with honored guest and basketball legend Patrick Ewing! All proceeds benefit Cambridge Camping. Tickets are $125 for the cruise plus the event\, or $50 for the event only. All ages are welcome\, and parking is free!
X-ALT-DESC;FMTTYPE=text/html:Cambridge Camping invites you to join us on Saturday\, September 7\, at CambridgeSide for a VIP champagne cruise with the Charles Riverboat Company followed by food\, drinks\, and live music from American Symphony of Soul at a party with honored guest and basketball legend Patrick Ewing! All proceeds benefit Cambridge Camping. Tickets are $125 for the cruise plus the event\, or $50 for the event only. All ages are welcome\, and parking is free!
LOCATION:100 Cambridgeside Place\, Cambridge\, MA 02141
UID:e.2584.4578
SEQUENCE:3
DTSTAMP:20260424T125917Z
URL:https://business.cambridgechamber.org/events/details/cambridge-camping-on-the-go-4578
END:VEVENT

END:VCALENDAR
