BEGIN:VCALENDAR
VERSION:2.0
PRODID:-//ChamberMaster//Event Calendar 2.0//EN
METHOD:PUBLISH
X-PUBLISHED-TTL:P3D
REFRESH-INTERVAL:P3D
CALSCALE:GREGORIAN
BEGIN:VEVENT
DTSTART:20200227T030000Z
DTEND:20200227T041500Z
X-MICROSOFT-CDO-ALLDAYEVENT:FALSE
SUMMARY:Bill Frisell: HARMONY featuring Petra Haden\, Hank Roberts and Luke Bergman
DESCRIPTION:Described as being at the very epicenter of modern American Music" (BBC)\, Bill Frisell's career as a guitarist and composer has spanned more than 35 years and 250 recordings\, including 40 of his own. Frisell's recording catalog has been cited by Downbeat as "the best recorded output of the decade."\n\n\n\nRecognized as one of America's 21 most vital and productive performing artists\, Frisell was named an inaugural Doris Duke Artist in April 2012. He is also a recipient of grants from United States Artists\, Meet the Composer\, and National Performance Network. Currently Frisell is the Guest Curator for the Roots of Americana series at Jazz at Lincoln Center and Resident Artistic Director at San Francisco Jazz.
X-ALT-DESC;FMTTYPE=text/html:<p style="text-align:start">Described as being at the very epicenter of modern American Music&quot\; (BBC)\, Bill Frisell&#39\;s career as a guitarist and composer has spanned more than 35 years and 250 recordings\, including 40 of his own. Frisell&#39\;s recording catalog has been cited by Downbeat as &quot\;the best recorded output of the decade.&quot\;<br />\n<br />\nRecognized as one of America&#39\;s 21 most vital and productive performing artists\, Frisell was named an inaugural Doris Duke Artist in April 2012. He is also a recipient of grants from United States Artists\, Meet the Composer\, and National Performance Network. Currently Frisell is the Guest Curator for the Roots of Americana series at Jazz at Lincoln Center and Resident Artistic Director at San Francisco Jazz.</p>\n
LOCATION:The Regattabar at The Charles Hotel
UID:e.2584.4716
SEQUENCE:3
DTSTAMP:20260424T065153Z
URL:https://business.cambridgechamber.org/events/details/bill-frisell-harmony-featuring-petra-haden-hank-roberts-and-luke-bergman-4716
END:VEVENT

END:VCALENDAR
