BEGIN:VCALENDAR
VERSION:2.0
PRODID:-//ChamberMaster//Event Calendar 2.0//EN
METHOD:PUBLISH
X-PUBLISHED-TTL:P3D
REFRESH-INTERVAL:P3D
CALSCALE:GREGORIAN
BEGIN:VEVENT
DTSTART:20200311T130000Z
DTEND:20200311T160000Z
X-MICROSOFT-CDO-ALLDAYEVENT:FALSE
SUMMARY:Beyond Brick-and-Mortar
DESCRIPTION:Many food businesses increase their resilience and odds of success by incorporating other sales channels to supplement revenue and make the most out of space. This workshop will provide an overview of these alternatives\, including benefits and pitfalls to look out for\, and will offer take-home templates for how to evaluate an opportunity. Time will be spent discussing items including but not limited to: pop-up locations\, partnerships with non-food companies\, delivery services and 3rd party caterers\, and e-commerce. This workshop will be led by Commonwealth Kitchen\, Greater Boston's leading commercial kitchen incubator and accelerator\, which supports food businesses through their membership commercial kitchen space and expert trainings.  Registration is required for workshop participation\, and class size is limited. Priority will be given to Cambridge residents and businesses\, participants in the Cambridge Food Truck Program\, and women and minority-owned food businesses. All workshops are free to participants.
X-ALT-DESC;FMTTYPE=text/html:<span style="color: rgb(51\, 62\, 72)\; font-family: National2\; font-size: 20px\; background-color: rgb(255\, 255\, 255)\;">Many food businesses increase their resilience and odds of success by incorporating other sales channels to supplement revenue and make the most out of space. This workshop will provide an overview of these alternatives\, including benefits and pitfalls to look out for\, and will offer take-home templates for how to evaluate an opportunity. Time will be spent discussing items including but not limited to: pop-up locations\, partnerships with non-food companies\, delivery services and 3rd party caterers\, and e-commerce. This workshop will be led by Commonwealth Kitchen\, Greater Boston&rsquo\;s leading commercial kitchen incubator and accelerator\, which supports food businesses through their membership commercial kitchen space and expert trainings.&nbsp\; Registration is required for workshop participation\, and class size is limited. Priority will be given to Cambridge residents and businesses\, participants in the Cambridge Food Truck Program\, and women and minority-owned food businesses. All workshops are free to participants.</span>
LOCATION:
UID:e.2584.5337
SEQUENCE:3
DTSTAMP:20260424T033159Z
URL:https://business.cambridgechamber.org/events/details/beyond-brick-and-mortar-5337
END:VEVENT

END:VCALENDAR
