BEGIN:VCALENDAR
VERSION:2.0
PRODID:-//ChamberMaster//Event Calendar 2.0//EN
METHOD:PUBLISH
X-PUBLISHED-TTL:P3D
REFRESH-INTERVAL:P3D
CALSCALE:GREGORIAN
BEGIN:VEVENT
DTSTART:20191101T220000Z
DTEND:20191102T030000Z
X-MICROSOFT-CDO-ALLDAYEVENT:FALSE
SUMMARY:BARCC's Champions for Change Gala & Auction
DESCRIPTION:Experience an inspiring evening of exciting silent and live auction packages\, fine food\, and celebratory dancing.\n\n\n\nBe inspired by survivor speaker Sohaila Abdulali\, leading advocate\, best-selling author\, and BARCC's first full-time employee. \n\nCelebrate our Champion for Change Cambridge Redevelopment Authority for purchasing 93-99 Bishop Allen Drive and ensuring survivors will continue to have a dedicated space for healing. \n\nThe evening will also feature:\n\n\n	Star Benefit Auctioneer Erin Ward offering superior travel destinations\, exciting dining experiences\, and one-of-a-kind packages\n	Cocktails and fine cuisine\n	Music and dancing\n\nTickets and tables of 10 are available for purchase at barcc.org/gala.\n\n\n\nDoes your company want to invest in BARCC's free services for survivors of sexual violence?\n\nSponsorship opportunities ranging from $25\,000-$3\,500 are available. Contact BARCC's Development Manager\, Tara McCabe\, at tmccabe@barcc.org for more information.
X-ALT-DESC;FMTTYPE=text/html:<p>&nbsp\;</p>\n\n<p><span style="color:#000000"><span style="font-size:14px"><span style="font-family:arial\,helvetica\,sans-serif"><span style="background-color:transparent">Experience an inspiring evening of exciting silent and live auction packages\, fine food\, and celebratory dancing.</span></span></span></span><br />\n<br />\n<strong>Be inspired by&nbsp\;survivor speaker <a href="https://barcc.org/blog/details/historic-highlights-barccs-first-full-time-staffer" target="_blank">Sohaila Abdulali</a></strong><span style="color:rgb(0\, 0\, 0)\; font-family:arial\,helvetica\,sans-serif\; font-size:14px">\, leading advocate\, best-selling author\, and BARCC&#39\;s first full-time employee.&nbsp\;</span></p>\n\n<p><span style="color:#000000"><span style="font-size:14px"><span style="font-family:arial\,helvetica\,sans-serif"><strong>Celebrate our Champion for Change <a href="https://barcc.org/blog/details/champion-for-change-cambridge-redevelopment-authority" target="_blank">Cambridge Redevelopment Authority</a></strong>&nbsp\;for purchasing 93-99 Bishop Allen Drive and ensuring survivors will continue to have a dedicated space for healing.&nbsp\;</span></span></span></p>\n\n<p><span style="color:rgb(0\, 0\, 0)\; font-family:arial\,helvetica\,sans-serif\; font-size:14px">The evening will also feature:</span></p>\n\n<ul>\n	<li><span style="color:#000000"><span style="font-size:14px"><span style="font-family:arial\,helvetica\,sans-serif"><span style="background-color:transparent">Star Benefit Auctioneer Erin Ward offering superior travel destinations\, exciting dining experiences\, and one-of-a-kind packages</span></span></span></span></li>\n	<li><span style="color:#000000"><span style="font-size:14px"><span style="font-family:arial\,helvetica\,sans-serif">Cocktails and fine cuisine</span></span></span></li>\n	<li><span style="color:#000000"><span style="font-size:14px"><span style="font-family:arial\,helvetica\,sans-serif">Music and dancing</span></span></span></li>\n</ul>\n<strong><span style="color:#000000"><span style="font-size:14px"><span style="font-family:arial\,helvetica\,sans-serif">Tickets and tables of 10 are available for purchase at <a href="https://barcc.org/join/events/champions-gala" target="_blank">barcc.org/gala</a>.<br />\n<br />\nDoes your company want to invest in BARCC&#39\;s free services for survivors of sexual violence?</span></span></span></strong><br />\n<a href="https://barcc.org/assets/docs/FY20_Corporate_Sponsorship_Opportunities.pdf" target="_blank"><span style="color:#000000"><span style="font-size:14px"><span style="font-family:arial\,helvetica\,sans-serif">Sponsorship opportunities ranging from $25\,000-$3\,500 are available.</span></span></span></a><span style="color:#000000"><span style="font-size:14px"><span style="font-family:arial\,helvetica\,sans-serif"> Contact BARCC&#39\;s Development Manager\, Tara McCabe\, at <a href="mailto:tmccabe@barcc.org?subject=Sponsoring%20the%20BARCC%20Gala">tmccabe@barcc.org</a> for more information.</span></span></span><br />\n&nbsp\;
LOCATION:Boston Marriott Copley Place 110 Huntington Avenue Boston\, MA 02116
UID:e.2584.4653
SEQUENCE:3
DTSTAMP:20260424T094209Z
URL:https://business.cambridgechamber.org/events/details/barcc-s-champions-for-change-gala-auction-4653
END:VEVENT

END:VCALENDAR
