BEGIN:VCALENDAR
VERSION:2.0
PRODID:-//ChamberMaster//Event Calendar 2.0//EN
METHOD:PUBLISH
X-PUBLISHED-TTL:P3D
REFRESH-INTERVAL:P3D
CALSCALE:GREGORIAN
BEGIN:VEVENT
DTSTART;VALUE=DATE:20190810
DTEND;VALUE=DATE:20190812
TRANSP:TRANSPARENT
X-MICROSOFT-CDO-ALLDAYEVENT:TRUE
SUMMARY:Back to School Block Party
DESCRIPTION:Staples is the Destination that connects parents\, teachers\, and students for a successful School year.\n\nPrograms:- Classroom Rewards\, Back to School Block Parties and Teacher Lists.
X-ALT-DESC;FMTTYPE=text/html:<span style="font-family:verdana"><span style="color:#FF0000"><strong>Staples is the Destination that connects parents\, teachers\, and students for a successful School year.<br />\nPrograms:- Classroom Rewards\, Back to School Block Parties and Teacher Lists.</strong></span></span>
LOCATION:Staples 186 Alewife Brook Parkway\, Cambridge\, MA\, 02138
UID:e.2584.4581
SEQUENCE:3
DTSTAMP:20260424T144705Z
URL:https://business.cambridgechamber.org/events/details/back-to-school-block-party-4581
END:VEVENT

END:VCALENDAR
