BEGIN:VCALENDAR
VERSION:2.0
PRODID:-//ChamberMaster//Event Calendar 2.0//EN
METHOD:PUBLISH
X-PUBLISHED-TTL:P3D
REFRESH-INTERVAL:P3D
CALSCALE:GREGORIAN
BEGIN:VEVENT
DTSTART:20200202T003000Z
DTEND:20200202T014500Z
X-MICROSOFT-CDO-ALLDAYEVENT:FALSE
SUMMARY:Atlas Soul
DESCRIPTION:Atlas Soul is a multiple award winning band\, performing original music that celebrates polyrhythm & melodies rooted in the Afro-Mediterranean traditions. Their sound is organically punched with deep funk\, jazz and intelligent hip hop. Burning live performances with audience participation are their trademark!\n\n\n\nAtlas Soul's core is a quintet but they love to invite a special guest musician or add a full horn section depending on the show. Atlas Soul sings in French\, Italian\, Arabic\, Hebrew and English\, making their performances truly cross-cultural music experiences. The lyrics speak of love\, ecology\, oppression\, happiness\, immigration\, poverty\, spicy food! Atlas Soul's motto\, world music for world peace\, spells out its philosophical and political goal: to inspire world peace through a fusion of music and culture that gets people to the dance floor.
X-ALT-DESC;FMTTYPE=text/html:<span style="font-family:museo slab\,sans-serif\; font-size:13px">Atlas Soul is a multiple award winning band\, performing original music that celebrates polyrhythm &amp\; melodies rooted in the Afro-Mediterranean traditions. Their sound is organically punched with deep funk\, jazz and intelligent hip hop. Burning live performances with audience participation are their trademark!</span><br />\n<br />\n<span style="font-family:museo slab\,sans-serif\; font-size:13px">Atlas Soul&#39\;s core is a quintet but they love to invite a special guest musician or add a full horn section depending on the show. Atlas Soul sings in French\, Italian\, Arabic\, Hebrew and English\, making their performances truly cross-cultural music experiences. The lyrics speak of love\, ecology\, oppression\, happiness\, immigration\, poverty\, spicy food! Atlas Soul&#39\;s motto\, world music for world peace\, spells out its philosophical and political goal: to inspire world peace through a fusion of music and culture that gets people to the dance floor.</span>
LOCATION:The Regattabar at The Charles Hotel
UID:e.2584.4708
SEQUENCE:3
DTSTAMP:20260424T050805Z
URL:https://business.cambridgechamber.org/events/details/atlas-soul-02-01-2020-4708
END:VEVENT

END:VCALENDAR
