BEGIN:VCALENDAR
VERSION:2.0
PRODID:-//ChamberMaster//Event Calendar 2.0//EN
METHOD:PUBLISH
X-PUBLISHED-TTL:P3D
REFRESH-INTERVAL:P3D
CALSCALE:GREGORIAN
BEGIN:VEVENT
DTSTART:20260423T160000Z
DTEND:20260423T180000Z
X-MICROSOFT-CDO-ALLDAYEVENT:FALSE
SUMMARY:April School Vacation at CambridgeSide
DESCRIPTION:Looking for a little fun during April School Break? Head to CambridgeSide for a day the whole family will love! From shopping (yes - Zara now has kids!) to delicious dining options everyone can agree on at CanalSide Food + Drink\, plus 'Dino Safari'\, open for a limited time\, it's your one-stop destination. Plus\, don't miss our lineup of events: magic shows\, music bingo\, trivia\, puppet show\, indoor movie\, and more. Visit CambridgeSide.com for full schedule and complete details. \n\n \n\nTuesday\, 4/21 \n\nMagic Show\, 11am-12pm\n\nMovie Soundtrack Music Bingo\, 6-8pm\n\n \n\nWednesday\, 4/22 \n\nPuppet Show\, 11am-12pm\n\n \n\nThursday\, 4/23 \n\nInteractive Reptile Show\, 11am-12pm\n\nThe Land Before Time Movie\, 12-2pm\n\nDisney Themed Trivia\, 6-8pm\n\n \n\nFriday\, 4/24 \n\nMagic Show\, 11am-12pm\n\n \n\nAll events are free and open to the public. All minors must be accompanied by an adult. All event elements first come\, first served\, while supplies last.
X-ALT-DESC;FMTTYPE=text/html:<span style="font-family:aptos\,sans-serif"><span style="font-size:12.0pt">Looking for a little fun during April School Break? Head to CambridgeSide for a day the whole family will love! From shopping (yes - Zara now has kids!) to delicious dining options everyone can agree on at </span></span><a href="https://www.cambridgeside.com/canalside"><span style="font-family:aptos\,sans-serif"><span style="font-size:12.0pt">CanalSide Food + Drink</span></span></a><span style="font-family:aptos\,sans-serif"><span style="font-size:12.0pt">\, plus &lsquo\;Dino Safari&rsquo\;\, open for a limited time\, it&rsquo\;s your one-stop destination. Plus\, don&rsquo\;t miss our lineup of events: magic shows\, music bingo\, trivia\, puppet show\, indoor movie\, and more. Visit </span></span><a href="https://www.cambridgeside.com/events"><span style="font-family:aptos\,sans-serif"><span style="font-size:12.0pt">CambridgeSide.com</span></span></a><span style="font-family:aptos\,sans-serif"><span style="font-size:12.0pt"> for full schedule and complete details. </span></span><br />\n&nbsp\;<br />\n<strong><span style="font-family:aptos\,sans-serif"><span style="font-size:12.0pt">Tuesday\, 4/21 </span></span></strong><br />\n<span style="font-family:aptos\,sans-serif"><span style="font-size:12.0pt">Magic Show\, 11am-12pm</span></span><br />\n<span style="font-family:aptos\,sans-serif"><span style="font-size:12.0pt">Movie Soundtrack Music Bingo\, 6-8pm</span></span><br />\n&nbsp\;<br />\n<strong><span style="font-family:aptos\,sans-serif"><span style="font-size:12.0pt">Wednesday\, 4/22 </span></span></strong><br />\n<span style="font-family:aptos\,sans-serif"><span style="font-size:12.0pt">Puppet Show\, 11am-12pm</span></span><br />\n&nbsp\;<br />\n<strong><span style="font-family:aptos\,sans-serif"><span style="font-size:12.0pt">Thursday\, 4/23 </span></span></strong><br />\n<span style="font-family:aptos\,sans-serif"><span style="font-size:12.0pt">Interactive Reptile Show\, 11am-12pm</span></span><br />\n<span style="font-family:aptos\,sans-serif"><span style="font-size:12.0pt">The Land Before Time Movie\, 12-2pm</span></span><br />\n<span style="font-family:aptos\,sans-serif"><span style="font-size:12.0pt">Disney Themed Trivia\, 6-8pm</span></span><br />\n&nbsp\;<br />\n<strong><span style="font-family:aptos\,sans-serif"><span style="font-size:12.0pt">Friday\, 4/24 </span></span></strong><br />\n<span style="font-family:aptos\,sans-serif"><span style="font-size:12.0pt">Magic Show\, 11am-12pm</span></span><br />\n&nbsp\;<br />\n<span style="font-family:aptos\,sans-serif"><span style="font-size:12.0pt">All events are free and open to the public. All minors must be accompanied by an adult. All event elements first come\, first served\, while supplies last.&nbsp\;</span></span>
LOCATION:CanalSide at CambridgeSide 100 CambridgeSide Place Cambridge\, MA 02141
UID:e.2584.8586
SEQUENCE:3
DTSTAMP:20260421T184431Z
URL:https://business.cambridgechamber.org/events/details/april-school-vacation-at-cambridgeside-04-23-2026-8586
END:VEVENT

END:VCALENDAR
