BEGIN:VCALENDAR
VERSION:2.0
PRODID:-//ChamberMaster//Event Calendar 2.0//EN
METHOD:PUBLISH
X-PUBLISHED-TTL:P3D
REFRESH-INTERVAL:P3D
CALSCALE:GREGORIAN
BEGIN:VEVENT
DTSTART:20190523T233000Z
DTEND:20190524T010000Z
X-MICROSOFT-CDO-ALLDAYEVENT:FALSE
SUMMARY:Anton Schwartz Quintet
DESCRIPTION:"What I require for music to really captivate me\," Anton says\, "is groove and intellect working in tandem. Music that gets into your bones\, into your head and into your heart."\n\n\n\nJazz's greatest improvisers create music that packs an emotional punch. It's a lesson that tenor saxophonist Anton Schwartz learned well. Schwartz's Quintet is Winner of 2016 Northwest Acoustic Jazz Ensemble of the Year. Their latest album\, Flash Mob\, spent eight weeks in jazz radio's Top 10 and earned a four-star review in Down Beat magazine\, reinforcing Schwartz's reputation as a passionate but poised improviser and smart purveyor of captivating melodies. Schwartz has performed at jazz's most prestigious clubs and festivals\, including the Blue Note and Dizzy's (NYC)\, Blues Alley (DC)\, Yoshi's (Oakland)\, Jazz Alley (Seattle)\, and the Monterey Jazz Festival. Recent engagements include sold-out shows at Jazz at Lincoln Center and a feature as soloist with the Boston Pops in Boston Symphony Hall. He is a longtime faculty member of the California Jazz Conservatory and has taught extensively at the Stanford Jazz Workshop and the Brubeck Institute. Schwartz is also the author of a popular blog about jazz\, improvisation and harmony.
X-ALT-DESC;FMTTYPE=text/html:&quot\;What I require for music to really captivate me\,&quot\; Anton says\, &quot\;is groove and intellect working in tandem. Music that gets into your bones\, into your head and into your heart.&quot\;<br />\n<br />\nJazz&#39\;s greatest improvisers create music that packs an emotional punch. It&#39\;s a lesson that tenor saxophonist Anton Schwartz learned well. Schwartz&#39\;s Quintet is Winner of 2016 Northwest Acoustic Jazz Ensemble of the Year. Their latest album\, Flash Mob\, spent eight weeks in jazz radio&#39\;s Top 10 and earned a four-star review in Down Beat magazine\, reinforcing Schwartz&#39\;s reputation as a passionate but poised improviser and smart purveyor of captivating melodies. Schwartz has performed at jazz&#39\;s most prestigious clubs and festivals\, including the Blue Note and Dizzy&#39\;s (NYC)\, Blues Alley (DC)\, Yoshi&#39\;s (Oakland)\, Jazz Alley (Seattle)\, and the Monterey Jazz Festival. Recent engagements include sold-out shows at Jazz at Lincoln Center and a feature as soloist with the Boston Pops in Boston Symphony Hall. He is a longtime faculty member of the California Jazz Conservatory and has taught extensively at the Stanford Jazz Workshop and the Brubeck Institute. Schwartz is also the author of a popular blog about jazz\, improvisation and harmony.
LOCATION:The Regattabar at The Charles Hotel
UID:e.2584.3830
SEQUENCE:3
DTSTAMP:20260424T214311Z
URL:https://business.cambridgechamber.org/events/details/anton-schwartz-quintet-3830
END:VEVENT

END:VCALENDAR
