BEGIN:VCALENDAR
VERSION:2.0
PRODID:-//ChamberMaster//Event Calendar 2.0//EN
METHOD:PUBLISH
X-PUBLISHED-TTL:P3D
REFRESH-INTERVAL:P3D
CALSCALE:GREGORIAN
BEGIN:VEVENT
DTSTART:20191102T140000Z
DTEND:20191102T170000Z
X-MICROSOFT-CDO-ALLDAYEVENT:FALSE
SUMMARY:All School Open House at the International School of Boston
DESCRIPTION:Tour our campus and meet with parents\, students\, faculty and staff!\n	\n	\n	Learn about the benefits and value of studying across the disciplines in more than one language.\n	\n	\n	Join the Upper School students and faculty for a showcase of our upper school programs.\n\n	 \n	\n\n\nThe International School of Boston (ISB) is an independent\, non-profit\, PK -12 (starting at age 2.8) French-English bilingual and international school located in Cambridge\, Massachusetts\, in one of the most vibrant metropolitan areas in the United States. As a world-class\, accredited academic institution\, ISB places the development of the bilingual brain at the heart of its mission. ISB students graduate with an American high school diploma and choose between two internationally renowned diplomas\, the French or the International Baccalaureate\, giving them the opportunity to thrive at leading universities in the United States\, France\, and around the world. Offering a rich experience with rigorous programs\, ISB prepares its students for a lifetime of learning and service. Visit www.isbos.org.\n\nClick here to register.
X-ALT-DESC;FMTTYPE=text/html:<ul>\n	<li>\n	<p><span style="font-size:12px"><span style="font-family:arial\,helvetica\,sans-serif">Tour our campus and meet with parents\, students\, faculty and staff!</span></span></p>\n	</li>\n	<li>\n	<p><span style="font-size:12px"><span style="font-family:arial\,helvetica\,sans-serif">Learn about the benefits and value of studying across the disciplines in more than one language.</span></span></p>\n	</li>\n	<li>\n	<p><span style="font-size:12px"><span style="font-family:arial\,helvetica\,sans-serif">Join the Upper School students and faculty for a showcase of our upper school programs.</span></span><br />\n	&nbsp\;</p>\n	</li>\n</ul>\n\n<p><span style="font-size:12px"><span style="font-family:arial\,helvetica\,sans-serif"><span style="background-color:transparent">The International School of Boston (ISB) is an independent\, non-profit\, PK -12 </span>(starting at age 2.8)&nbsp\;<span style="background-color:transparent">French-English bilingual and international school located in Cambridge\, Massachusetts\, in one of the most vibrant metropolitan areas in the United States. As a world-class\, accredited academic institution\, ISB places the development of the bilingual brain at the heart of its mission. ISB students graduate with an American high school diploma and choose between two internationally renowned diplomas\, the French or the International Baccalaureate\, giving them the opportunity to thrive at leading universities in the United States\, France\, and around the world. Offering a rich experience with rigorous programs\, ISB prepares its students for a lifetime of learning and service. Visit <strong><a href="http://www.isbos.org" style="text-decoration-line: none\;">www.isbos.org</a></strong>.</span></span></span></p>\n\n<p><span style="font-size:12px"><span style="font-family:arial\,helvetica\,sans-serif"><strong><a href="https://www.eventbrite.com/e/all-school-open-house-tickets-62657026854">Click here to register</a></strong>.</span></span></p>\n
LOCATION:International School of Boston 45 Matignon Road Cambridge\, MA 02140 617-499-1459
UID:e.2584.4587
SEQUENCE:3
DTSTAMP:20260424T094727Z
URL:https://business.cambridgechamber.org/events/details/all-school-open-house-at-the-international-school-of-boston-11-02-2019-4587
END:VEVENT

END:VCALENDAR
