BEGIN:VCALENDAR
VERSION:2.0
PRODID:-//ChamberMaster//Event Calendar 2.0//EN
METHOD:PUBLISH
X-PUBLISHED-TTL:P3D
REFRESH-INTERVAL:P3D
CALSCALE:GREGORIAN
BEGIN:VEVENT
DTSTART:20190605T210000Z
DTEND:20190606T000000Z
X-MICROSOFT-CDO-ALLDAYEVENT:FALSE
SUMMARY:A Taste and A Toast 2019: Come Home to Forsyth
DESCRIPTION:A Taste and A Toast 2019: Come Home to Forsyth is a fundraising gala to benefit the Forsyth Institute  the only independent research institute in the country specializing in oral health and its impact on overall wellness. The ForsythKids program provides free oral health care to more than 2\,500 underserved children in Massachusetts each year. Please join us in reuniting the extended Forsyth family and celebrating good health and great food from the area's top chefs. VIP Reception / 5 pm / $175 (includes both VIP and main reception) Interactive cooking demonstration from two of Boston's most iconic chefs: Barbara Lynch B&G Oysters\, Drink\, The Bucher Shop\, Sportello\, No. 9 Park\, Menton and Stir Jody Adams Saloniki\, Porto and Trade Main Event / 6-9 pm / $100 Incredible offering of tastes from 15 leading VIP chefs\, beer and wine\, and special toasts to the honorees with a tribute to ForsythKids alumni! Featured Chefs Peter McCarthy EVOO Jose Duarte Taranta Tony Ambrose Ambrosia Events and Catering David Bazirgan Bambara Jamie Bissonnette Little Donkey\, Toro\, Coppa Danny Garcia Eva's Pastries Will Gilson Puritan & Company Andy Husbands The Smoke Shop Benjamin Lacy Cafe  ArtScience Brian Poe Parish Cafe \, Tip Tap Room\, Bukowski's Tavern Barbara Lynch No. 9 Park\, Menton\, B&G Oysters\, The Butcher Shop Jody Adams Saloniki\, Porto and Trade Tatiana Rosana Outlook Kitchen at The Envoy Hotel Steve DiFillippo & Rodney Murillo Davio's
X-ALT-DESC;FMTTYPE=text/html:A Taste and A Toast 2019: Come Home to Forsyth is a fundraising gala to benefit the Forsyth Institute&mdash\; the only independent research institute in the country specializing in oral health and its impact on overall wellness. The ForsythKids program provides free oral health care to more than 2\,500 underserved children in Massachusetts each year. Please join us in reuniting the extended Forsyth family and celebrating good health and great food from the area&rsquo\;s top chefs. VIP Reception / 5 pm / $175 (includes both VIP and main reception) Interactive cooking demonstration from two of Boston&rsquo\;s most iconic chefs: Barbara Lynch&mdash\;B&amp\;G Oysters\, Drink\, The Bucher Shop\, Sportello\, No. 9 Park\, Menton and Stir Jody Adams&mdash\;Saloniki\, Porto and Trade Main Event / 6-9 pm / $100 Incredible offering of tastes from 15 leading VIP chefs\, beer and wine\, and special toasts to the honorees with a tribute to ForsythKids alumni! Featured Chefs Peter McCarthy&ndash\;EVOO Jose Duarte&ndash\;Taranta Tony Ambrose&ndash\;Ambrosia Events and Catering David Bazirgan&ndash\;Bambara Jamie Bissonnette&ndash\;Little Donkey\, Toro\, Coppa Danny Garcia&ndash\;Eva&rsquo\;s Pastries Will Gilson&ndash\;Puritan &amp\; Company Andy Husbands&ndash\;The Smoke Shop Benjamin Lacy&ndash\;Cafe&acute\; ArtScience Brian Poe&ndash\;Parish Cafe&acute\;\, Tip Tap Room\, Bukowski&rsquo\;s Tavern Barbara Lynch&ndash\;No. 9 Park\, Menton\, B&amp\;G Oysters\, The Butcher Shop Jody Adams&ndash\;Saloniki\, Porto and Trade Tatiana Rosana&ndash\;Outlook Kitchen at The Envoy Hotel Steve DiFillippo &amp\; Rodney Murillo&ndash\;Davio&rsquo\;s
LOCATION:The Forsyth Institute 1 Athenaeum Street Cambridge\, MA 02142
UID:e.2584.4060
SEQUENCE:3
DTSTAMP:20260424T183223Z
URL:https://business.cambridgechamber.org/events/details/a-taste-and-a-toast-2019-come-home-to-forsyth-4060
END:VEVENT

END:VCALENDAR
