BEGIN:VCALENDAR
VERSION:2.0
PRODID:-//ChamberMaster//Event Calendar 2.0//EN
METHOD:PUBLISH
X-PUBLISHED-TTL:P3D
REFRESH-INTERVAL:P3D
CALSCALE:GREGORIAN
BEGIN:VEVENT
DTSTART:20190416T220000Z
DTEND:20190417T000000Z
X-MICROSOFT-CDO-ALLDAYEVENT:FALSE
SUMMARY:A Social Media Strategy - Where Do You Start?
DESCRIPTION:Presented by Metter Media. Free to Cambridge residents and business owners\, $10 for non-Cambridge participants.\n\nThe world of social media can be overwhelming. With seemingly every business posting on Instagram\, Facebook\,Twitter\, and LinkedIn\; it can be hard to make your brand stand out. In this class\, Metter Media will help you craft a social media strategy that works for your business and industry. Whether you've already been posting and want to improve\, or have yet to get into this "social media thing"\, we'll teach you how to identify key performance indicators (KPIs)\, solidify goals for your business (and achieve them!)\, build your voice\, brainstorm creative content ideas to help your brand stand out\, and more. **Attendees should have a general knowledge of the main social media channels (Instagram\, Facebook\, Twitter\, and LinkedIn) and come to class with a laptop and some questions about their business's social strategy.
X-ALT-DESC;FMTTYPE=text/html:<p style="margin: 0px 0px 1em\; padding: 0px\; border: 0px\; line-height: 1.4\; font-family: myriad-pro\, Arial\, Helvetica\, sans-serif\; font-size: 12px\;"><span style="font-size:20px\;"><strong>Presented by Metter Media. Free to Cambridge residents and business owners\, $10 for non-Cambridge participants.</strong></span></p>\n\n<p style="margin: 0px 0px 1em\; padding: 0px\; border: 0px\; line-height: 1.4\; font-family: myriad-pro\, Arial\, Helvetica\, sans-serif\; font-size: 12px\;"><span style="font-size:20px\;">The world of social media can be overwhelming. With seemingly every business posting on Instagram\, Facebook\,Twitter\, and LinkedIn\; it can be hard to make your brand stand out. In this class\, Metter Media will help you craft a social media strategy that works for your business and industry. Whether you&#39\;ve already been posting and want to improve\, or have yet to get into this &quot\;social media thing&quot\;\, we&#39\;ll teach you how to identify key performance indicators (KPIs)\, solidify goals for your business (and achieve them!)\, build your voice\, brainstorm creative&nbsp\;content ideas to help your brand stand out\, and more.&nbsp\;<strong><em>**Attendees should have a general knowledge of the main social media channels (Instagram\, Facebook\, Twitter\, and LinkedIn) and come to class with a laptop and some questions about their business&#39\;s social strategy.</em></strong></span></p>\n
LOCATION:City Hall Annex 344 Broadway 4th Floor Conference Room
UID:e.2584.3824
SEQUENCE:3
DTSTAMP:20260424T234628Z
URL:https://business.cambridgechamber.org/events/details/a-social-media-strategy-where-do-you-start-3824
END:VEVENT

END:VCALENDAR
