BEGIN:VCALENDAR
VERSION:2.0
PRODID:-//ChamberMaster//Event Calendar 2.0//EN
METHOD:PUBLISH
X-PUBLISHED-TTL:P3D
REFRESH-INTERVAL:P3D
CALSCALE:GREGORIAN
BEGIN:VEVENT
DTSTART:20200818T160000Z
DTEND:20200818T164500Z
X-MICROSOFT-CDO-ALLDAYEVENT:FALSE
SUMMARY:A Primer on Moving Out Best Practices Based on Recent Projects
DESCRIPTION:A Primer on Moving Out\n\nBest Practices Based on Recent Projects\n\n\n When thinking about planning your own lab space\, where do you start and what considerations should you include?\n\n\n\n\nThe journey from needing new space to day one operations in that new space is a long and complicated process.  There is no tried-and-true map to lead you through the different facets.\n\nThe best travel companions for this adventure are:\n\n\n	A sense of what your company is today.\n	A sense of who you want to be in 1\, 3\, and 5 years.\n	A project charter.\n	A realistic timeline.\n	Checklists\, checklists\, checklists!\n\n\nThis complimentary webinar is designed to be a collective resource for education on moving and/or expanding into new space\, either from an incubator\, sub-leased\, or currently leased space.\n\nMeet your team!\n\n\n	Becky Boyer\, NCIDQ\, IIDA\, Director of Life Sciences\, OTJ Architects\n	Pat Gallagher\, President & CEO\, Hereva Consultants\n	Philip Pavlovich\, Associate Director of Development and Project Management\, Siena Construction Corp.\n	Joe Pearce\, Director\, Newmark Knight Frank\n	Jennifer Reilly\, President & COO\, Safety Partners\, Inc. \n\n\nWe will answer your questions and share our experiences from recent projects:\n\n\n	Is there such thing as "too soon" to start planning?\n	What are the biggest budget factors?\n	How do you select a building that aligns with your science?\n	How do you figure out if you need to do construction and how do you think about timing and costs?\n	What is the permitting process and what are the biggest pain points?\n	Why do small companies need partners to help?
X-ALT-DESC;FMTTYPE=text/html:<div class="cc-block" id="cc-block1" style="margin: 0px 0px 18px\; padding: 0px\; overflow: hidden\; font-family: Arial\, Helvetica\, sans-serif\; font-size: 12px\;">\n<h1 style="margin: 0px\; padding: 0px\; font-size: 24px\; letter-spacing: -1px\; text-align: center\;">A Primer on Moving Out</h1>\n\n<h1 style="margin: 0px\; padding: 0px\; font-size: 24px\; letter-spacing: -1px\; text-align: center\;">Best Practices Based on Recent Projects</h1>\n</div>\n\n<div class="cc-block" id="cc-block3" style="margin: 0px 0px 18px\; padding: 0px\; overflow: hidden\; font-family: Arial\, Helvetica\, sans-serif\; font-size: 12px\;"><em><strong>&nbsp\;When thinking about planning your own lab space\, where do you start and what considerations should you include?</strong></em>\n\n<ul style="margin: 18px 0px 18px 18px\; padding: 0px\; list-style-position: outside\; list-style-image: initial\;">\n</ul>\n\n<p style="margin: 0px 0px 18px\; padding: 0px\;">The journey from needing new space to day one operations in that new space is a long and complicated process.&nbsp\; There is no tried-and-true map to lead you through the different facets.</p>\n\n<p style="margin: 0px 0px 18px\; padding: 0px\;"><strong>The best travel companions for this adventure are:</strong></p>\n\n<ul style="margin: 18px 0px 18px 18px\; padding: 0px\; list-style-position: outside\; list-style-image: initial\;">\n	<li style="margin: 0px\; padding: 0px\;">A sense of what your company is today.</li>\n	<li style="margin: 0px\; padding: 0px\;">A sense of who you want to be in 1\, 3\, and 5 years.</li>\n	<li style="margin: 0px\; padding: 0px\;">A project charter.</li>\n	<li style="margin: 0px\; padding: 0px\;">A realistic timeline.</li>\n	<li style="margin: 0px\; padding: 0px\;">Checklists\, checklists\, checklists!</li>\n</ul>\n\n<p style="margin: 0px 0px 18px\; padding: 0px\;"><span style="color: rgb(0\, 0\, 255)\;" title=""><em><strong>This complimentary webinar is designed to be a collective resource&nbsp\;for education on moving and/or expanding into new space\, either from an incubator\, sub-leased\, or currently leased space.</strong></em></span></p>\n\n<p style="margin: 0px 0px 18px\; padding: 0px\;"><strong>Meet your team!</strong></p>\n\n<ul style="margin: 18px 0px 18px 18px\; padding: 0px\; list-style-position: outside\; list-style-image: initial\;">\n	<li style="margin: 0px\; padding: 0px\;"><a href="https://www.otj.com/about-otj/" style="color: rgb(0\, 0\, 0)\; outline: 0px\;">Becky Boyer\, NCIDQ\, IIDA\, Director of Life Sciences\,&nbsp\;OTJ Architects</a></li>\n	<li style="margin: 0px\; padding: 0px\;"><a href="https://www.hereva.com/team/pat-gallagher/" style="color: rgb(0\, 0\, 0)\; outline: 0px\;">Pat Gallagher\, President &amp\; CEO\, Hereva Consultants</a></li>\n	<li style="margin: 0px\; padding: 0px\;"><a href="https://sienaconstruction.com/team-member/philip-pavlovich/" style="color: rgb(0\, 0\, 0)\; outline: 0px\;" target="_blank">Philip Pavlovich\,&nbsp\;<span title="">Associate Director of Development and Project Management\, Siena Construction Corp.</span></a></li>\n	<li style="margin: 0px\; padding: 0px\;"><a href="https://www.ngkf.com/people/joseph-pearce" style="color: rgb(0\, 0\, 0)\; outline: 0px\;">Joe Pearce\, Director\, Newmark Knight Frank</a></li>\n	<li style="margin: 0px\; padding: 0px\;"><a href="https://www.safetypartnersinc.com/jennifer-reilly/" style="color: rgb(85\, 85\, 85)\; text-decoration-line: none\; outline: 0px\;">Jennifer Reilly\, President &amp\; COO\, Safety Partners\, Inc.&nbsp\;</a></li>\n</ul>\n\n<p style="margin: 0px 0px 18px\; padding: 0px\;"><strong>We will answer your questions and share our experiences from recent projects:</strong></p>\n\n<ul style="margin: 18px 0px 18px 18px\; padding: 0px\; list-style-position: outside\; list-style-image: initial\;">\n	<li style="margin: 0px\; padding: 0px\;">Is there such thing as &quot\;too soon&quot\; to start planning?</li>\n	<li style="margin: 0px\; padding: 0px\;">What are the biggest budget factors?</li>\n	<li style="margin: 0px\; padding: 0px\;">How do you select a building that aligns with your science?</li>\n	<li style="margin: 0px\; padding: 0px\;">How do you figure out if you need to do construction and how do you think about timing and costs?</li>\n	<li style="margin: 0px\; padding: 0px\;">What is the permitting process and what are the biggest pain points?</li>\n	<li style="margin: 0px\; padding: 0px\;">Why do small companies need partners to help?</li>\n</ul>\n</div>\n
LOCATION:Webinar
UID:e.2584.5388
SEQUENCE:3
DTSTAMP:20260423T192245Z
URL:https://business.cambridgechamber.org/events/details/a-primer-on-moving-out-best-practices-based-on-recent-projects-5388
END:VEVENT

END:VCALENDAR
