BEGIN:VCALENDAR
VERSION:2.0
PRODID:-//ChamberMaster//Event Calendar 2.0//EN
METHOD:PUBLISH
X-PUBLISHED-TTL:P3D
REFRESH-INTERVAL:P3D
CALSCALE:GREGORIAN
BEGIN:VEVENT
DTSTART:20200312T200000Z
DTEND:20200312T220000Z
X-MICROSOFT-CDO-ALLDAYEVENT:FALSE
SUMMARY:A Pitch of Their Own Event
DESCRIPTION:A Pitch of Their Own Event\n\nThursday\, March 12\, 2020\, 4:00 PM-6:00 PM\n\nHosted by Takeda Pharmaceuticals\, 65 Franklin Street\, Cambridge\, MA 02139-4111\n\n \n\nAs part of the Massachusetts Life Sciences Center's Massachusetts Next Generation initiative\, Takeda Pharmaceuticals will host A Pitch of Their Own event to support women entrepreneurs in the life sciences community. Female leaders of early-stage companies will present their pitches\, highlighting the groundbreaking innovations championed by women in Massachusetts.\n\n \n\nLaunched in November 2017\, MassNextGen identifies promising women-led life sciences companies and provides critical funding and access to a robust panel of executive coaches to ensure that the entrepreneurs have valuable resources and support to succeed.\n\n \n\nREGISTER TODAY\n\n \n\nWe look forward to seeing you there.
X-ALT-DESC;FMTTYPE=text/html:<p><span style="font-size:20px\;"><strong><em><span style="font-family:century gothic\,sans-serif\;"><a href="https://urldefense.com/v3/__https:/www.eventbrite.com/e/a-pitch-of-their-own-event-women-led-early-stage-life-science-companies-tickets-92257949009__\;!!KDurfCY!pXEUJX-5oie84seft3dErUqNT_TyF1G6DW-SXWdeIJuHjo9Rv4UV_tdjbPwf6JcTdwG-5w$">A Pitch of Their Own<span style="font-style:normal\;"> Event</span></a></span></em></strong><br />\n<span style="font-family:century gothic\,sans-serif\;">Thursday\, March 12\, 2020\, 4:00 PM-6:00 PM</span><br />\n<span style="font-family:century gothic\,sans-serif\;">Hosted by Takeda Pharmaceuticals\, 65 Franklin Street\, Cambridge\, MA 02139-4111</span><br />\n&nbsp\;<br />\n<span style="font-family:century gothic\,sans-serif\;">As part of the <a href="https://urldefense.com/v3/__http:/www.masslifesciences.com/__\;!!KDurfCY!pXEUJX-5oie84seft3dErUqNT_TyF1G6DW-SXWdeIJuHjo9Rv4UV_tdjbPwf6Jf-XgR3rA$">Massachusetts Life Sciences Center</a>&rsquo\;s <a href="https://urldefense.com/v3/__http:/www.masslifesciences.com/programs/massnextgen__\;!!KDurfCY!pXEUJX-5oie84seft3dErUqNT_TyF1G6DW-SXWdeIJuHjo9Rv4UV_tdjbPwf6Jep42VYWQ$">Massachusetts Next Generation</a> initiative\, Takeda Pharmaceuticals will host A Pitch of Their Own event to support women entrepreneurs in the life sciences community. Female leaders of early-stage companies will present their pitches\, highlighting the groundbreaking innovations championed by women in Massachusetts.</span><br />\n&nbsp\;<br />\n<span style="font-family:century gothic\,sans-serif\;">Launched in November 2017\, <a href="https://urldefense.com/v3/__http:/www.masslifesciences.com/programs/massnextgen__\;!!KDurfCY!pXEUJX-5oie84seft3dErUqNT_TyF1G6DW-SXWdeIJuHjo9Rv4UV_tdjbPwf6Jep42VYWQ$">MassNextGen</a> identifies promising women-led life sciences companies and provides critical funding and access to a robust panel of executive coaches to ensure that the entrepreneurs have valuable resources and support to succeed.</span><br />\n&nbsp\;<br />\n<span style="font-family:century gothic\,sans-serif\;"><a href="https://urldefense.com/v3/__https:/www.eventbrite.com/e/a-pitch-of-their-own-event-women-led-early-stage-life-science-companies-tickets-92257949009__\;!!KDurfCY!pXEUJX-5oie84seft3dErUqNT_TyF1G6DW-SXWdeIJuHjo9Rv4UV_tdjbPwf6JcTdwG-5w$">REGISTER TODAY</a></span><br />\n&nbsp\;<br />\n<span style="font-family:century gothic\,sans-serif\;">We look forward to seeing you there. </span></span></p>\n
LOCATION:Takeda Pharmaceuticals\, 65 Franklin Street\, Cambridge\, MA 02139-4111
UID:e.2584.5377
SEQUENCE:3
DTSTAMP:20260424T033505Z
URL:https://business.cambridgechamber.org/events/details/a-pitch-of-their-own-event-5377
END:VEVENT

END:VCALENDAR
