BEGIN:VCALENDAR
VERSION:2.0
PRODID:-//ChamberMaster//Event Calendar 2.0//EN
METHOD:PUBLISH
X-PUBLISHED-TTL:P3D
REFRESH-INTERVAL:P3D
CALSCALE:GREGORIAN
BEGIN:VEVENT
DTSTART:20190424T153000Z
DTEND:20190424T170000Z
X-MICROSOFT-CDO-ALLDAYEVENT:FALSE
SUMMARY:A Conversation with Congresswoman Katherine Clark
DESCRIPTION:Join us for our second Government Affairs Speaker Series featuring a conversation with Congresswoman Katherine Clark.  Congresswoman Clark has served as the United States Representative for Massachusetts 5th Congressional District since 2013.  As of January 3\, 2019\, she joined the House leadership team as Vice Chair of the Democratic Caucus\, making her the sixth highest ranking Democrat in Congress.  Additionally\, she serves as a member of the Steering and Policy Committee within the Caucus. \n\n\nAgenda:\n\n11:30 AM - 12:00 PM Networking & Lunch\n\n12:00 PM - 1:00 PM Speaking Program
X-ALT-DESC;FMTTYPE=text/html:<div style="text-align: center\;"><span style="font-family: arial\; font-size: 20px\;">Join us for our second Government Affairs Speaker Series featuring a conversation with Congresswoman Katherine Clark.&nbsp\; Congresswoman Clark has served as the United States Representative for Massachusetts&nbsp\;5</span><sup style="font-family: arial\;">th</sup><span style="font-family: arial\; font-size: 20px\;"> Congressional District since 2013.&nbsp\; As of January 3\, 2019\, she joined the House leadership team as Vice Chair of the Democratic Caucus\, making her the sixth highest ranking Democrat in&nbsp\;Congress.&nbsp\; Additionally\, she serves as a member of the Steering and Policy Committee within the&nbsp\;Caucus.&nbsp\;</span></div>\n<br />\n<span style="font-size:18px\;">Agenda:<br font-size:="" style="color: rgb(51\, 51\, 51)\; font-family: sans-serif\, Arial\, Verdana\, " trebuchet="" />\n<span background-color:="" style="color: rgb(51\, 51\, 51)\; font-family: sans-serif\, Arial\, Verdana\, " trebuchet="">11:30 AM - 12:00 PM Networking &amp\; Lunch</span><br font-size:="" style="color: rgb(51\, 51\, 51)\; font-family: sans-serif\, Arial\, Verdana\, " trebuchet="" />\n<span background-color:="" style="color: rgb(51\, 51\, 51)\; font-family: sans-serif\, Arial\, Verdana\, " trebuchet="">12:00 PM -&nbsp\;1:00 PM Speaking Program</span></span>
LOCATION:Takeda Pharmaceuticals 650 E. Kendall Street Cambridge\, MA 02142
UID:e.2584.4071
SEQUENCE:3
DTSTAMP:20260424T234712Z
URL:https://business.cambridgechamber.org/events/details/a-conversation-with-congresswoman-katherine-clark-4071
END:VEVENT

END:VCALENDAR
