BEGIN:VCALENDAR
VERSION:2.0
PRODID:-//ChamberMaster//Event Calendar 2.0//EN
METHOD:PUBLISH
X-PUBLISHED-TTL:P3D
REFRESH-INTERVAL:P3D
CALSCALE:GREGORIAN
BEGIN:VEVENT
DTSTART:20190624T220000Z
DTEND:20190625T010000Z
X-MICROSOFT-CDO-ALLDAYEVENT:FALSE
SUMMARY:90s Trivia
DESCRIPTION:Wazzzzupppp\, Kendall Square\nGet jiggy with it on Monday\, June 24th for - wait for it - 90s trivia. We'll be covering everything from music to TV to movies... booyah!\n\nOh snap\, here's what you need to know: \n\n \n\n	\n	Trivia begins at 6:00pm\, but we encourage you to come early for hella dinner & drinks\n	\n\n\n\n\n	Registration is first come\, first served and CLOSES after the first 35 teams have signed up (teams cannot exceed 6 people)\n	Trivia will be held outside on our patio. In the case of inclement weather\, trivia will move to our sister location Hurricane's at the Garden by North Station \n\n\nPlease note: RSVP does NOT guarantee a team or table. We recommend coming early as we cannot accommodate everyone.
X-ALT-DESC;FMTTYPE=text/html:<h2>Wazzzzupppp\, Kendall Square</h2>\nGet jiggy with it on Monday\, June 24th for - wait for it - 90s trivia. We&#39\;ll be covering everything from music to TV to movies... booyah!<br />\nOh snap\, here&#39\;s what you need to know:&nbsp\;<br />\n&nbsp\;\n<ul>\n	<li>\n	<div>Trivia begins at 6:00pm\, but we encourage you to come early for hella&nbsp\;dinner&nbsp\;&amp\;&nbsp\;drinks</div>\n	</li>\n</ul>\n\n<div>\n<ul>\n	<li>Registration is first come\, first served and CLOSES after the first 35 teams have signed up (teams cannot exceed 6 people)</li>\n	<li>Trivia will be held outside on our patio. In the case of inclement weather\, trivia will move to our sister location&nbsp\;Hurricane&#39\;s at the Garden&nbsp\;by North Station&nbsp\;</li>\n</ul>\n</div>\n<em>Please note: RSVP does NOT guarantee a team or table. We recommend coming early as we cannot accommodate everyone.</em>
LOCATION:Glass House 450 Kendall St. Cambridge\, MA 02142
UID:e.2584.4571
SEQUENCE:3
DTSTAMP:20260424T181912Z
URL:https://business.cambridgechamber.org/events/details/90s-trivia-4571
END:VEVENT

END:VCALENDAR
