BEGIN:VCALENDAR
VERSION:2.0
PRODID:-//ChamberMaster//Event Calendar 2.0//EN
METHOD:PUBLISH
X-PUBLISHED-TTL:P3D
REFRESH-INTERVAL:P3D
CALSCALE:GREGORIAN
BEGIN:VEVENT
DTSTART:20191026T120000Z
DTEND:20191026T230000Z
X-MICROSOFT-CDO-ALLDAYEVENT:FALSE
SUMMARY:7th International Conference on Child Rights & Sight
DESCRIPTION:Conference Objectives\n\n\n	Discuss current issues affecting children and promote awareness locally\, nationally & internationally\n	Provide a platform for local\, national & international participants to showcase achievements & share lessons from their experience working against child poverty\, child labor & treatable blindness\n	Build a stronger international network & forge new partnerships among like-minded individuals\, researchers\, campaigners\, policymakers & organizations.\n	Feature youth as attendees\, volunteers & honorees. Encourage young people to take leadership in humanitarian causes.
X-ALT-DESC;FMTTYPE=text/html:<h3 style="color: rgb(51\, 51\, 51)\; font-family: Lato\, sans-serif\; font-size: 18px\; line-height: 1.25\; margin: 5px 0px\; padding: 0px\; text-align: center\;">Conference Objectives</h3>\n\n<ol style="margin: 0px\; padding: 5px 5px 20px 0px\; font-size: 12px\; color: rgb(51\, 51\, 51)\; font-family: Lato\, sans-serif\;">\n	<li style="margin: 0px 0px 0px 35px\; padding: 0px\; list-style-type: decimal\;">Discuss current issues affecting children and promote awareness locally\, nationally &amp\; internationally</li>\n	<li style="margin: 0px 0px 0px 35px\; padding: 0px\; list-style-type: decimal\;">Provide a platform for local\, national &amp\; international participants to showcase achievements &amp\; share lessons from their experience working against child poverty\, child labor &amp\; treatable blindness</li>\n	<li style="margin: 0px 0px 0px 35px\; padding: 0px\; list-style-type: decimal\;">Build a stronger international network &amp\; forge new partnerships among like-minded individuals\, researchers\, campaigners\, policymakers &amp\; organizations.</li>\n	<li style="margin: 0px 0px 0px 35px\; padding: 0px\; list-style-type: decimal\;">Feature youth as attendees\, volunteers &amp\; honorees. Encourage young people to take leadership in humanitarian causes.</li>\n</ol>\n
LOCATION:Yale University\, New Haven\, Connecticut
UID:e.2584.4636
SEQUENCE:3
DTSTAMP:20260424T112427Z
URL:https://business.cambridgechamber.org/events/details/7th-international-conference-on-child-rights-sight-4636
END:VEVENT

END:VCALENDAR
