BEGIN:VCALENDAR
VERSION:2.0
PRODID:-//ChamberMaster//Event Calendar 2.0//EN
METHOD:PUBLISH
X-PUBLISHED-TTL:P3D
REFRESH-INTERVAL:P3D
CALSCALE:GREGORIAN
BEGIN:VEVENT
DTSTART:20190704T210000Z
DTEND:20190705T020000Z
X-MICROSOFT-CDO-ALLDAYEVENT:FALSE
SUMMARY:4th of July Lobster Bake
DESCRIPTION:Celebrate the birth of our nation the New England way... with a Lobster Bake!\nJoin us on our patio Thursday\, July 4th for an independence feast even Samuel Adams couldn't resist.\n\nWe'll have live music and ALL of the lawn games you can think of. Plus\, we're located just a short walk from an incredible view of the Boston Pops Fireworks Spectacular assuring you will end the night with a BANG.\n\nAdmission includes:\n\n\n	One lobster\n\nplus unlimited...\n\n\n	Mussels\n	Chowder\n	Hot Dogs\n	Roasted Potatoes\n	Corn\n	French fries\n	Coleslaw\n	Watermelon\n\nCool down with a signature patriotic drink or rotating draft for purchase at the bar. Plus come back after the fireworks\, we will be open until 1 am!\n\nPlease note: All ages are welcome to enjoy food and fun activities (children 5 and under free). Event will take place rain or shine. Sorry\, all sales are final.
X-ALT-DESC;FMTTYPE=text/html:<h2>Celebrate the birth of our nation the New England way... with a Lobster Bake!</h2>\nJoin us on our patio&nbsp\;<em>Thursday\, July 4th</em>&nbsp\;for an independence feast even Samuel Adams couldn&#39\;t resist.<br />\nWe&#39\;ll have&nbsp\;<strong>live music</strong>&nbsp\;and ALL of the lawn games you can think of. Plus\, we&#39\;re located just a short walk from an incredible view of the Boston Pops Fireworks Spectacular assuring you will end the night with a&nbsp\;<em>BANG</em>.<br />\n<em><strong>Admission includes:</strong></em>\n\n<ul>\n	<li>One lobster</li>\n</ul>\n<em><strong>p</strong><strong>lus</strong>&nbsp\;<strong>unlimited</strong><strong>...</strong></em>\n\n<ul>\n	<li>Mussels</li>\n	<li>Chowder</li>\n	<li>Hot Dogs</li>\n	<li>Roasted Potatoes</li>\n	<li>Corn</li>\n	<li>French fries</li>\n	<li>Coleslaw</li>\n	<li>Watermelon</li>\n</ul>\nCool down with a&nbsp\;<em>signature patriotic drink</em>&nbsp\;or rotating draft for purchase at the bar. Plus come back after the fireworks\, we will be open until 1 am!<br />\nPlease note: All ages are welcome to enjoy food and fun activities (children 5 and under free). Event will take place rain or shine. Sorry\, all sales are final.<br />\n<br />\n&nbsp\;
LOCATION:Glass House 450 Kendall Street Cambridge\, MA 02142
UID:e.2584.4575
SEQUENCE:3
DTSTAMP:20260424T164309Z
URL:https://business.cambridgechamber.org/events/details/4th-of-july-lobster-bake-4575
END:VEVENT

END:VCALENDAR
